BEGIN:VCALENDAR
VERSION:2.0
PRODID:-//Hetarchive - ECPv6.15.16.1//NONSGML v1.0//EN
CALSCALE:GREGORIAN
METHOD:PUBLISH
X-ORIGINAL-URL:https://hetarchive.net
X-WR-CALDESC:Events for Hetarchive
REFRESH-INTERVAL;VALUE=DURATION:PT1H
X-Robots-Tag:noindex
X-PUBLISHED-TTL:PT1H
BEGIN:VTIMEZONE
TZID:America/Mexico_City
BEGIN:DAYLIGHT
TZOFFSETFROM:-0600
TZOFFSETTO:-0500
TZNAME:CDT
DTSTART:20070401T080000
END:DAYLIGHT
BEGIN:STANDARD
TZOFFSETFROM:-0500
TZOFFSETTO:-0600
TZNAME:CST
DTSTART:20071028T070000
END:STANDARD
BEGIN:DAYLIGHT
TZOFFSETFROM:-0600
TZOFFSETTO:-0500
TZNAME:CDT
DTSTART:20080406T080000
END:DAYLIGHT
BEGIN:STANDARD
TZOFFSETFROM:-0500
TZOFFSETTO:-0600
TZNAME:CST
DTSTART:20081026T070000
END:STANDARD
BEGIN:DAYLIGHT
TZOFFSETFROM:-0600
TZOFFSETTO:-0500
TZNAME:CDT
DTSTART:20090405T080000
END:DAYLIGHT
BEGIN:STANDARD
TZOFFSETFROM:-0500
TZOFFSETTO:-0600
TZNAME:CST
DTSTART:20091025T070000
END:STANDARD
BEGIN:DAYLIGHT
TZOFFSETFROM:-0600
TZOFFSETTO:-0500
TZNAME:CDT
DTSTART:20100404T080000
END:DAYLIGHT
BEGIN:STANDARD
TZOFFSETFROM:-0500
TZOFFSETTO:-0600
TZNAME:CST
DTSTART:20101031T070000
END:STANDARD
END:VTIMEZONE
BEGIN:VEVENT
DTSTART;VALUE=DATE:20091228
DTEND;VALUE=DATE:20091229
DTSTAMP:20260423T110155
CREATED:20201124T103437Z
LAST-MODIFIED:20201124T103437Z
UID:9508-1261958400-1262044799@hetarchive.net
SUMMARY:Comic Birz 2010\, February Issue
DESCRIPTION:Included a feature on Hetalia. Also included a trading card. \n\n			\n				\n			\n				\n				Comic Birz Promo: Trading Card
URL:https://hetarchive.net/event/comic-birz-2010-february-issue/
CATEGORIES:Magazine Feature
ATTACH;FMTTYPE=image/png:https://hetarchive.net/wp-content/uploads/2020/11/comicbirz201002b.jpg.png
END:VEVENT
BEGIN:VEVENT
DTSTART;VALUE=DATE:20091125
DTEND;VALUE=DATE:20091126
DTSTAMP:20260423T110155
CREATED:20201112T201004Z
LAST-MODIFIED:20201130T200415Z
UID:9250-1259107200-1259193599@hetarchive.net
SUMMARY:Hetalia: Axis Powers: Sound World
DESCRIPTION:Release of Hetalia: Axis Powers: Sound World.\nPrice: 2200 yen \n\n			\n				\n			\n				\n				First Press Promo: Christmas Card\n				\n		\n\n(Kitawiki Article) – (Product Page Cache)
URL:https://hetarchive.net/event/hetalia-axis-powers-sound-world/
CATEGORIES:Merchandise Release
ATTACH;FMTTYPE=image/jpeg:https://hetarchive.net/wp-content/uploads/2020/11/2009-11-25-axis_powers-sound_world.jpg
END:VEVENT
BEGIN:VEVENT
DTSTART;VALUE=DATE:20091124
DTEND;VALUE=DATE:20091125
DTSTAMP:20260423T110155
CREATED:20201112T201222Z
LAST-MODIFIED:20201113T004531Z
UID:9253-1259020800-1259107199@hetarchive.net
SUMMARY:Hetalia: Axis Powers Character CD Vol. 6 - USA
DESCRIPTION:Release of Hetalia: Axis Powers Character CD Vol. 6 – USA. \n\n			\n				\n			\n				\n				First Press Promo: Trading Card\n				\n		\n\n(Kitawiki Article)
URL:https://hetarchive.net/event/hetalia-axis-powers-character-cd-vol-6-usa/
CATEGORIES:Merchandise Release
ATTACH;FMTTYPE=image/jpeg:https://hetarchive.net/wp-content/uploads/2017/03/americacdcover.jpg
END:VEVENT
BEGIN:VEVENT
DTSTART;VALUE=DATE:20091030
DTEND;VALUE=DATE:20091031
DTSTAMP:20260423T110155
CREATED:20201125T102429Z
LAST-MODIFIED:20201125T102429Z
UID:9512-1256860800-1256947199@hetarchive.net
SUMMARY:Comic Birz 2009\, December Issue
DESCRIPTION:Included a feature on Hetalia. Also included a trading card. \n\n			\n				\n			\n				\n				Comic Birz Bonus: Trading Card
URL:https://hetarchive.net/event/comic-birz-2009-december-issue/
CATEGORIES:Magazine Feature
ATTACH;FMTTYPE=image/jpeg:https://hetarchive.net/wp-content/uploads/2020/11/comicbirz200912.jpg
END:VEVENT
BEGIN:VEVENT
DTSTART;VALUE=DATE:20090930
DTEND;VALUE=DATE:20091001
DTSTAMP:20260423T110155
CREATED:20201125T102928Z
LAST-MODIFIED:20201125T102928Z
UID:9516-1254268800-1254355199@hetarchive.net
SUMMARY:Comic Birz 2009\, November Issue
DESCRIPTION:Included a feature on Hetalia. Also included a trading card. \n\n			\n				\n			\n				\n				Comic Birz Bonus: Trading Card
URL:https://hetarchive.net/event/comic-birz-2009-november-issue/
CATEGORIES:Magazine Feature
ATTACH;FMTTYPE=image/png:https://hetarchive.net/wp-content/uploads/2020/11/comicbirz200911b.jpg.png
END:VEVENT
BEGIN:VEVENT
DTSTART;VALUE=DATE:20090930
DTEND;VALUE=DATE:20091001
DTSTAMP:20260423T110155
CREATED:20201112T201406Z
LAST-MODIFIED:20201113T004402Z
UID:9255-1254268800-1254355199@hetarchive.net
SUMMARY:Hetalia: Axis Powers Character CD Vol. 5 - France
DESCRIPTION:Release of Hetalia: Axis Powers Character CD Vol. 5 – France. \n\n			\n				\n			\n				\n				First Press Promo: Trading Card\n				\n		\n\n(Kitawiki Article)
URL:https://hetarchive.net/event/hetalia-axis-powers-character-cd-vol-5-france/
CATEGORIES:Merchandise Release
ATTACH;FMTTYPE=image/jpeg:https://hetarchive.net/wp-content/uploads/2017/03/francecdcover.jpg
END:VEVENT
BEGIN:VEVENT
DTSTART;VALUE=DATE:20090827
DTEND;VALUE=DATE:20090828
DTSTAMP:20260423T110155
CREATED:20201112T201858Z
LAST-MODIFIED:20201130T201445Z
UID:9257-1251331200-1251417599@hetarchive.net
SUMMARY:Hetalia Fantasia
DESCRIPTION:Release of Hetalia Fantasia. This was a mail-order gift for purchasing Hetalia: Axis Powers volume 2. \n\n			\n				\n			\n				\n				Bonus: Trading Card\n				\n		\n\n(Kitawiki Article)
URL:https://hetarchive.net/event/hetalia-fantasia/
CATEGORIES:Merchandise Release
ATTACH;FMTTYPE=image/jpeg:https://hetarchive.net/wp-content/uploads/2017/03/fantasia_01.jpg
END:VEVENT
BEGIN:VEVENT
DTSTART;VALUE=DATE:20090826
DTEND;VALUE=DATE:20090827
DTSTAMP:20260423T110155
CREATED:20201112T202127Z
LAST-MODIFIED:20201130T201350Z
UID:9259-1251244800-1251331199@hetarchive.net
SUMMARY:Hetalia Drama CD Interval Vol. 1: The CD Of The Awesome Me
DESCRIPTION:Release of Hetalia Drama CD Interval Vol. 1: The CD Of The Awesome Me. \n\n			\n				\n			\n				\n				First Press Promo: Trading Card\n				\n		\n\n(Kitawiki Article)
URL:https://hetarchive.net/event/hetalia-drama-cd-interval-vol-1-the-cd-of-the-awesome-me/
CATEGORIES:Merchandise Release
ATTACH;FMTTYPE=image/jpeg:https://hetarchive.net/wp-content/uploads/2017/03/interval_01.jpg
END:VEVENT
BEGIN:VEVENT
DTSTART;VALUE=DATE:20090729
DTEND;VALUE=DATE:20090730
DTSTAMP:20260423T110155
CREATED:20201112T202338Z
LAST-MODIFIED:20201113T004202Z
UID:9261-1248825600-1248911999@hetarchive.net
SUMMARY:Hetalia: Axis Powers Character CD Vol. 4 - UK
DESCRIPTION:Release of Hetalia: Axis Powers Character CD Vol. 4 – UK. \n\n			\n				\n			\n				\n				First Press Promo: Trading Card\n				\n		\n\n(Kitawiki Article)
URL:https://hetarchive.net/event/hetalia-axis-powers-character-cd-vol-4-uk/
CATEGORIES:Merchandise Release
ATTACH;FMTTYPE=image/jpeg:https://hetarchive.net/wp-content/uploads/2017/03/englandcdcover.jpg
END:VEVENT
BEGIN:VEVENT
DTSTART;VALUE=DATE:20090603
DTEND;VALUE=DATE:20090604
DTSTAMP:20260423T110155
CREATED:20201112T202540Z
LAST-MODIFIED:20201130T201343Z
UID:9263-1243987200-1244073599@hetarchive.net
SUMMARY:Hetalia Drama CD: Volume 2
DESCRIPTION:Release of Hetalia Drama CD: Volume 2. \n\n			\n				\n			\n				\n				First Press Promo: Trading Card\n				\n		\n\n(Kitawiki Article)
URL:https://hetarchive.net/event/hetalia-drama-cd-volume-2/
CATEGORIES:Merchandise Release
ATTACH;FMTTYPE=image/jpeg:https://hetarchive.net/wp-content/uploads/2017/03/drama_02.jpg
END:VEVENT
BEGIN:VEVENT
DTSTART;VALUE=DATE:20090527
DTEND;VALUE=DATE:20090528
DTSTAMP:20260423T110155
CREATED:20201112T202735Z
LAST-MODIFIED:20201113T004051Z
UID:9265-1243382400-1243468799@hetarchive.net
SUMMARY:Hetalia: Axis Powers Character CD Vol. 3 - Japan
DESCRIPTION:Release of Hetalia: Axis Powers Character CD Vol. 3 – Japan. \n\n			\n				\n			\n				\n				First Press Promo: Trading Card\n				\n		\n\n(Kitawiki Article)
URL:https://hetarchive.net/event/hetalia-axis-powers-character-cd-vol-3-japan/
CATEGORIES:Merchandise Release
ATTACH;FMTTYPE=image/jpeg:https://hetarchive.net/wp-content/uploads/2017/03/japancdcover.jpg
END:VEVENT
BEGIN:VEVENT
DTSTART;VALUE=DATE:20090430
DTEND;VALUE=DATE:20090501
DTSTAMP:20260423T110155
CREATED:20201125T103611Z
LAST-MODIFIED:20201125T103611Z
UID:9522-1241049600-1241135999@hetarchive.net
SUMMARY:Comic Birz 2009\, June Issue
DESCRIPTION:Included a feature on Hetalia. Animate release included a limited Hetalia Newspaper. \nAnimate Promo: Hetalia Newspaper Volume 7\nOfficial Info on Animate Release \n\nThe continuously popular “Comic Birz”/Animate “Hetalia Newspaper”\nis currently available with the “Comic Birz June Issue”!! \nThe contents are the continuation of popular seasonal topics and the 2nd anime related topic\, etc. \nFor additional details\, please see “Hetalia Newspaper vol.7”. \nObject\n“Comic Birz June Issue” (Released April 30th) \nAnimate Promo\n“Hetalia Newspaper vol.7” \n※Often the promo is limited\,\ntherefore\, please inquire with Animate soon.
URL:https://hetarchive.net/event/comic-birz-2009-june-issue/
CATEGORIES:Magazine Feature
ATTACH;FMTTYPE=image/png:https://hetarchive.net/wp-content/uploads/2020/11/comicbirz200906b.jpg.png
END:VEVENT
BEGIN:VEVENT
DTSTART;VALUE=DATE:20090422
DTEND;VALUE=DATE:20090423
DTSTAMP:20260423T110155
CREATED:20201112T202916Z
LAST-MODIFIED:20201113T003836Z
UID:9267-1240358400-1240444799@hetarchive.net
SUMMARY:Hetalia: Axis Powers Character CD Vol. 2 - Germany
DESCRIPTION:Release of Hetalia: Axis Powers Character CD Vol. 2 – Germany. \n\n			\n				\n			\n				\n				First Press Promo: Trading Card\n				\n		\n\n(Kitawiki Article)
URL:https://hetarchive.net/event/hetalia-axis-powers-character-cd-vol-2-germany/
CATEGORIES:Merchandise Release
ATTACH;FMTTYPE=image/jpeg:https://hetarchive.net/wp-content/uploads/2017/03/germanycdcover.jpg
END:VEVENT
BEGIN:VEVENT
DTSTART;VALUE=DATE:20090330
DTEND;VALUE=DATE:20090331
DTSTAMP:20260423T110155
CREATED:20201127T112724Z
LAST-MODIFIED:20201127T112724Z
UID:9528-1238371200-1238457599@hetarchive.net
SUMMARY:Comic Birz 2009\, May Issue
DESCRIPTION:Included a Hetalia Clear File. Animate release included a limited Hetalia Newspaper. \n\n			\n				\n			\n				\n				Comic Birz Promo: Clear File\n				\n			\n				\n			\n				\n				Animate Promo: Hetalia Newspaper Volume 6\n				\n		\n\nOfficial Info on Animate Release \n\nThe always popular “Comic Birz” Animate promo “Hetalia Newspaper”\nwill be included in the “Comic Birz May Issue”!! \nThis time it has an extremely seasonal article\, news on the 2nd Animate Fair\, and similar enriching contents!! \nBy the way\, Animate Fair’s [“Hetalia” World Tour 2009] lasts from April 10th to May 10th\, so don’t miss it.\nPlease see “Hetalia Newspaper vol. 6” for more details. \nObject\n“Comic Birz May Issue” (Released March 30th) \nAnimate Promo\n“Hetalia Newspaper vol. 6” \n※Often the promo is limited\,\ntherefore\, please inquire with Animate soon.
URL:https://hetarchive.net/event/comic-birz-2009-may-issue/
CATEGORIES:Magazine Feature
ATTACH;FMTTYPE=image/png:https://hetarchive.net/wp-content/uploads/2020/11/comicbirz200905b.jpg.png
END:VEVENT
BEGIN:VEVENT
DTSTART;VALUE=DATE:20090325
DTEND;VALUE=DATE:20090326
DTSTAMP:20260423T110155
CREATED:20201112T203221Z
LAST-MODIFIED:20201130T200438Z
UID:9271-1237939200-1238025599@hetarchive.net
SUMMARY:Marukaite Chikyuu Single
DESCRIPTION:Release of Marukaite Chikyuu Single. \n(Kitawiki Article)
URL:https://hetarchive.net/event/marukaite-chikyuu-single/
CATEGORIES:Merchandise Release
ATTACH;FMTTYPE=image/jpeg:https://hetarchive.net/wp-content/uploads/2020/11/2009-03-25-marukaite_chikyuu.jpg
END:VEVENT
BEGIN:VEVENT
DTSTART;VALUE=DATE:20090325
DTEND;VALUE=DATE:20090326
DTSTAMP:20260423T110155
CREATED:20201112T203040Z
LAST-MODIFIED:20201130T185925Z
UID:9269-1237939200-1238025599@hetarchive.net
SUMMARY:Hetalia: Axis Powers Character CD Vol. 1 - Italy
DESCRIPTION:Release of Hetalia: Axis Powers Character CD Vol. 1 – Italy. \n\n			\n				\n			\n				\n				First Press Promo: Trading Card\n				\n		\n\n(Kitawiki Article)
URL:https://hetarchive.net/event/hetalia-axis-powers-character-cd-vol-1-italy/
CATEGORIES:Merchandise Release
ATTACH;FMTTYPE=image/jpeg:https://hetarchive.net/wp-content/uploads/2017/03/itaycdcover-1.jpg
END:VEVENT
BEGIN:VEVENT
DTSTART;VALUE=DATE:20090228
DTEND;VALUE=DATE:20090301
DTSTAMP:20260423T110155
CREATED:20201128T103040Z
LAST-MODIFIED:20201128T103040Z
UID:9534-1235779200-1235865599@hetarchive.net
SUMMARY:Comic Birz 2009\, April Issue
DESCRIPTION:Included a feature on Hetalia. Also included a clear file. Animate release included a limited Hetalia Newspaper. \n\n			\n				\n			\n				\n				Comic Birz Promo: Clear File\n				\n			\n				\n			\n				\n				Animate Promo: Hetalia Newspaper Volume 5
URL:https://hetarchive.net/event/comic-birz-2009-april-issue/
CATEGORIES:Magazine Feature
ATTACH;FMTTYPE=image/png:https://hetarchive.net/wp-content/uploads/2020/11/comicbirz200904b.jpg.png
END:VEVENT
BEGIN:VEVENT
DTSTART;VALUE=DATE:20081229
DTEND;VALUE=DATE:20081230
DTSTAMP:20260423T110155
CREATED:20201128T103521Z
LAST-MODIFIED:20201128T103521Z
UID:9540-1230508800-1230595199@hetarchive.net
SUMMARY:Comic Birz 2009\, February Issue
DESCRIPTION:Included a feature on Hetalia. Animate release included a limited Hetalia Newspaper. \n\n			\n				\n			\n				\n				Animate Promo: Hetalia Newspaper Volume 4\n				\n		\n\nOfficial Info on Animate Release \nThe always popular “Comic Birz” Animate promo “Hetalia Newspaper”\nwill be included in the “Comic Birz February Issue”!! \nNow for a limited time you can expect to receive a special design present for your cellphone.\nIt’s a Japan that Himaruya Hidekaz drew specially as a stand by image!! \nThe present will be available until February 27th\, so don’t miss it.\nPlease see “Hetalia Newspaper vol.4” for more details. \nObject\n“Comic Birz February Issue” (Released January 30th) \nAnimate Promo\n“Hetalia Newspaper vol.4” \n※Often the promo is limited\,\ntherefore\, please inquire with Animate soon.
URL:https://hetarchive.net/event/comic-birz-2009-february-issue/
CATEGORIES:Magazine Feature
ATTACH;FMTTYPE=image/png:https://hetarchive.net/wp-content/uploads/2020/11/comicbirz200902b.jpg.png
END:VEVENT
BEGIN:VEVENT
DTSTART;VALUE=DATE:20081229
DTEND;VALUE=DATE:20081230
DTSTAMP:20260423T110155
CREATED:20201112T203345Z
LAST-MODIFIED:20201130T201338Z
UID:9274-1230508800-1230595199@hetarchive.net
SUMMARY:Hetalia Drama CD: Prologue 2
DESCRIPTION:Release of Hetalia Drama CD: Prologue 2. \n\n			\n				\n			\n				\n				Animate Promo:\nPrologue CD 1+2 Storage Sleeve\n				\n		\n\n(Kitawiki Article)
URL:https://hetarchive.net/event/hetalia-drama-cd-prologue-2/
CATEGORIES:Merchandise Release
ATTACH;FMTTYPE=image/jpeg:https://hetarchive.net/wp-content/uploads/2017/03/prologue_02.jpg
END:VEVENT
BEGIN:VEVENT
DTSTART;VALUE=DATE:20081129
DTEND;VALUE=DATE:20081130
DTSTAMP:20260423T110155
CREATED:20201129T234632Z
LAST-MODIFIED:20201129T234632Z
UID:9544-1227916800-1228003199@hetarchive.net
SUMMARY:Comic Birz 2009\, January Issue
DESCRIPTION:Included a feature on Hetalia. Animate release included a limited Hetalia Newspaper.
URL:https://hetarchive.net/event/comic-birz-2009-january-issue/
CATEGORIES:Magazine Feature
ATTACH;FMTTYPE=image/png:https://hetarchive.net/wp-content/uploads/2020/11/comicbirz200901b.jpg.png
END:VEVENT
BEGIN:VEVENT
DTSTART;VALUE=DATE:20081030
DTEND;VALUE=DATE:20081031
DTSTAMP:20260423T110155
CREATED:20201129T235206Z
LAST-MODIFIED:20210405T223700Z
UID:9547-1225324800-1225411199@hetarchive.net
SUMMARY:Comic Birz 2008\, December issue
DESCRIPTION:Included a feature on Hetalia. Animate release included a limited Hetalia Newspaper. \nAnimate Promo: Hetalia Newspaper Volume 2\nOfficial Info on Animate Release \nIn the “Comic Birz December Issue” currently on sale\, the anime’s setting information is published! \nBuy the “Comic Birz December Issue” at Animate and it’ll be accompanied with the “Hetalia Newspaper vol.2”! \nThe extremely popular Animate promo “Hetalia Newspaper” in the “Comic Birz November Issue”\nwill be included in the “Comic Birz December Issue” on sale October 30th! \nNow for a limited time you can expect to receive a special design present for your cellphone.\nThe present will be available until November 30th\, so don’t miss it.\nPlease see “Hetalia Newspaper vol.2” for more details. \nObject\n“Comic Birz December Issue” (Release October 30th) \nAnimate Promo\n“Hetalia Newspaper vol.2” \n※Often the promo is limited\,\ntherefore\, please inquire with Animate soon.
URL:https://hetarchive.net/event/comic-birz-2008-december-issue/
CATEGORIES:Magazine Feature
ATTACH;FMTTYPE=image/png:https://hetarchive.net/wp-content/uploads/2020/11/comicbirz200812b.jpg.png
END:VEVENT
BEGIN:VEVENT
DTSTART;VALUE=DATE:20081024
DTEND;VALUE=DATE:20081025
DTSTAMP:20260423T110155
CREATED:20201112T203515Z
LAST-MODIFIED:20201130T201332Z
UID:9276-1224806400-1224892799@hetarchive.net
SUMMARY:Hetalia Drama CD: Volume 1
DESCRIPTION:Release of Hetalia Drama CD: Volume 1. \n\n			\n				\n			\n				\n				First Press Promo: Trading Card\n				\n			\n				\n			\n				\n				Animate Promo: Mini Flag Set\n				\n			\n				\n			\n				\n				Animate Promo: Mini Flag Set 2\n				\n		\n\n(Kitawiki Article)
URL:https://hetarchive.net/event/hetalia-drama-cd-volume-1/
CATEGORIES:Merchandise Release
ATTACH;FMTTYPE=image/jpeg:https://hetarchive.net/wp-content/uploads/2017/03/drama_01.jpg
END:VEVENT
BEGIN:VEVENT
DTSTART;VALUE=DATE:20080930
DTEND;VALUE=DATE:20081001
DTSTAMP:20260423T110155
CREATED:20201130T184754Z
LAST-MODIFIED:20210405T223736Z
UID:9552-1222732800-1222819199@hetarchive.net
SUMMARY:Comic Birz 2008\, November issue
DESCRIPTION:Included a feature on Hetalia. Animate release included a limited Hetalia Newspaper. \nAnimate Promo: Hetalia Newspaper Volume 1\nOfficial Info on Animate Release \nGoing on sale on September 30th (Tuesday) next week the “Monthly Comic Birz November Issue”\, “Hetalia” animation news will be included!! \nThe notice will premier character designs ans storyboards faster than anywhere!!!\nInside “Monthly Comic Birz” starting with the next issue Hetalia news will occasionally be published.\nPlease check it out♪ \nFor more details check Gentosha Comics Official Website!! \nwww.gentosha-comics.net/hetalia/ \n\nUpon purchasing the “Monthly Comic Birz November Issue” at Animate stores nationwide\,\nthe original special favor “Animate Hetalia Newspaper vol.1” will be a present for first arrivals!!\nFurthermore\, published in the Hetalia Newspaper vol. 1 will be a two dimensional barcode\nfrom which you can get a Hetalia Special Cell Phone Wallpaper!! \n※Cell phone wallpaper will be available for a limited time. Please see Hetalia Newspaper vol.1 for details.
URL:https://hetarchive.net/event/comic-birz-2008-november-issue/
CATEGORIES:Magazine Feature
ATTACH;FMTTYPE=image/png:https://hetarchive.net/wp-content/uploads/2020/11/comicbirz200811b.jpg.png
END:VEVENT
BEGIN:VEVENT
DTSTART;VALUE=DATE:20080914
DTEND;VALUE=DATE:20080915
DTSTAMP:20260423T110155
CREATED:20201112T203645Z
LAST-MODIFIED:20201130T201538Z
UID:9278-1221350400-1221436799@hetarchive.net
SUMMARY:Axis Powers Hetalia: The CD
DESCRIPTION:Release of Axis Powers Hetalia: The CD. \n(Kitawiki Article)
URL:https://hetarchive.net/event/axis-powers-hetalia-the-cd/
CATEGORIES:Merchandise Release
ATTACH;FMTTYPE=image/jpeg:https://hetarchive.net/wp-content/uploads/2017/03/aph_the_cd.jpg
END:VEVENT
BEGIN:VEVENT
DTSTART;VALUE=DATE:20080829
DTEND;VALUE=DATE:20080830
DTSTAMP:20260423T110155
CREATED:20201112T203816Z
LAST-MODIFIED:20201130T201325Z
UID:9280-1219968000-1220054399@hetarchive.net
SUMMARY:Hetalia Drama CD: Prologue
DESCRIPTION:Release of Hetalia Drama CD: Prologue. \n\n			\n				\n			\n				\n				First Press Promo: Trading Card\n				\n		\n\n(Kitawiki Article)
URL:https://hetarchive.net/event/hetalia-drama-cd-prologue/
CATEGORIES:Merchandise Release
ATTACH;FMTTYPE=image/jpeg:https://hetarchive.net/wp-content/uploads/2017/03/prologue_01.jpg
END:VEVENT
END:VCALENDAR