BEGIN:VCALENDAR
VERSION:2.0
PRODID:-//Hetarchive - ECPv6.15.16.1//NONSGML v1.0//EN
CALSCALE:GREGORIAN
METHOD:PUBLISH
X-WR-CALNAME:Hetarchive
X-ORIGINAL-URL:https://hetarchive.net
X-WR-CALDESC:Events for Hetarchive
REFRESH-INTERVAL;VALUE=DURATION:PT1H
X-Robots-Tag:noindex
X-PUBLISHED-TTL:PT1H
BEGIN:VTIMEZONE
TZID:America/Mexico_City
BEGIN:DAYLIGHT
TZOFFSETFROM:-0600
TZOFFSETTO:-0500
TZNAME:CDT
DTSTART:20080406T080000
END:DAYLIGHT
BEGIN:STANDARD
TZOFFSETFROM:-0500
TZOFFSETTO:-0600
TZNAME:CST
DTSTART:20081026T070000
END:STANDARD
BEGIN:DAYLIGHT
TZOFFSETFROM:-0600
TZOFFSETTO:-0500
TZNAME:CDT
DTSTART:20090405T080000
END:DAYLIGHT
BEGIN:STANDARD
TZOFFSETFROM:-0500
TZOFFSETTO:-0600
TZNAME:CST
DTSTART:20091025T070000
END:STANDARD
BEGIN:DAYLIGHT
TZOFFSETFROM:-0600
TZOFFSETTO:-0500
TZNAME:CDT
DTSTART:20100404T080000
END:DAYLIGHT
BEGIN:STANDARD
TZOFFSETFROM:-0500
TZOFFSETTO:-0600
TZNAME:CST
DTSTART:20101031T070000
END:STANDARD
BEGIN:DAYLIGHT
TZOFFSETFROM:-0600
TZOFFSETTO:-0500
TZNAME:CDT
DTSTART:20110403T080000
END:DAYLIGHT
BEGIN:STANDARD
TZOFFSETFROM:-0500
TZOFFSETTO:-0600
TZNAME:CST
DTSTART:20111030T070000
END:STANDARD
END:VTIMEZONE
BEGIN:VEVENT
DTSTART;VALUE=DATE:20101124
DTEND;VALUE=DATE:20101125
DTSTAMP:20260423T092811
CREATED:20201112T192228Z
LAST-MODIFIED:20201114T020626Z
UID:9206-1290556800-1290643199@hetarchive.net
SUMMARY:Hetalia: World Series: Sound World
DESCRIPTION:Release of Hetalia: World Series: Sound World.\nPrice: 2000 yen \n\n			\n				\n			\n				\n				First Press Promo: Christmas Card\n				\n		\n\n(Kitawiki Article)
URL:https://hetarchive.net/event/hetalia-world-series-sound-world/
CATEGORIES:Merchandise Release
ATTACH;FMTTYPE=image/jpeg:https://hetarchive.net/wp-content/uploads/2020/11/2010-11-24world_series-sound_world.jpg
END:VEVENT
BEGIN:VEVENT
DTSTART;VALUE=DATE:20101117
DTEND;VALUE=DATE:20101118
DTSTAMP:20260423T092811
CREATED:20201112T192357Z
LAST-MODIFIED:20201113T221516Z
UID:9209-1289952000-1290038399@hetarchive.net
SUMMARY:Hetalia x Goodnight with Sheep Vol. 8 - United States of America and United Kingdom
DESCRIPTION:Release of Hetalia x Goodnight with Sheep Vol. 8 – United States of America and United Kingdom. \n\n			\n				\n			\n				\n				First Press Promo: Trading Card\n				\n			\n				\n			\n				\n				Animate Promo: USA Coaster\n				\n			\n				\n			\n				\n				Animate Promo: UK Coaster\n				\n		\n\n(Kitawiki Article) – (Product Page)
URL:https://hetarchive.net/event/hetalia-x-goodnight-with-sheep-vol-8-united-states-of-america-and-united-kingdom/
CATEGORIES:Merchandise Release
ATTACH;FMTTYPE=image/jpeg:https://hetarchive.net/wp-content/uploads/2017/03/hitsuji_08.jpg
END:VEVENT
BEGIN:VEVENT
DTSTART;VALUE=DATE:20101029
DTEND;VALUE=DATE:20101030
DTSTAMP:20260423T092811
CREATED:20201113T151108Z
LAST-MODIFIED:20201113T151108Z
UID:9334-1288310400-1288396799@hetarchive.net
SUMMARY:Hetalia x Goodnight with Sheep Series Box 2
DESCRIPTION:Limited release of Hetalia x Goodnight with Sheep Series Box 2. The box contained Hetalia x Goodnight with Sheep volumes 7 and 8\, and included an extra space for volumes 5 and 6. The box was sold at the Honeybee booth during Animate Girls Festival 2010\, and on Honeybee’s online shop for a limited time.
URL:https://hetarchive.net/event/hetalia-x-goodnight-with-sheep-series-box-2/
CATEGORIES:Merchandise Release
END:VEVENT
BEGIN:VEVENT
DTSTART;VALUE=DATE:20101029
DTEND;VALUE=DATE:20101030
DTSTAMP:20260423T092811
CREATED:20201112T192620Z
LAST-MODIFIED:20201113T221022Z
UID:9212-1288310400-1288396799@hetarchive.net
SUMMARY:Hetalia x Goodnight with Sheep Vol. 7 - Switzerland and Liechtenstein
DESCRIPTION:Release of Hetalia x Goodnight with Sheep Vol. 7 – Switzerland and Liechtenstein. \n\n			\n				\n			\n				\n				First Press Promo: Trading Card\n				\n			\n				\n			\n				\n				Animate Promo: Coasters\n				\n			\n				\n			\n				\n				Animate Full CD Set Promo: Pop Stand\n				\n		\n\n(Kitawiki Article) – (Product Page)
URL:https://hetarchive.net/event/hetalia-x-goodnight-with-sheep-vol-7-switzerland-and-liechtenstein/
CATEGORIES:Merchandise Release
ATTACH;FMTTYPE=image/jpeg:https://hetarchive.net/wp-content/uploads/2017/03/hitsuji_07.jpg
END:VEVENT
BEGIN:VEVENT
DTSTART;VALUE=DATE:20100924
DTEND;VALUE=DATE:20100925
DTSTAMP:20260423T092811
CREATED:20201112T193411Z
LAST-MODIFIED:20201113T215914Z
UID:9215-1285286400-1285372799@hetarchive.net
SUMMARY:Hetalia x Goodnight with Sheep Vol. 6 - France and Spain
DESCRIPTION:Release of Hetalia x Goodnight with Sheep Vol. 6 – France and Spain. \n\n			\n				\n			\n				\n				First Press Promo: Trading Card\n				\n			\n				\n			\n				\n				Animate Promo: Coasters\n				\n			\n				\n			\n				\n				Animate Full CD Set Promo: Pop Stand\n				\n		\n\n(Kitawiki Article) – (Product Page)
URL:https://hetarchive.net/event/hetalia-x-goodnight-with-sheep-vol-6-france-and-spain/
CATEGORIES:Merchandise Release
ATTACH;FMTTYPE=image/jpeg:https://hetarchive.net/wp-content/uploads/2017/03/hitsuji_06.jpg
END:VEVENT
BEGIN:VEVENT
DTSTART;VALUE=DATE:20100924
DTEND;VALUE=DATE:20100925
DTSTAMP:20260423T092811
CREATED:20201112T193923Z
LAST-MODIFIED:20201113T214743Z
UID:9221-1285286400-1285372799@hetarchive.net
SUMMARY:Hetalia x Goodnight with Sheep Vol. 4 - Japan and China
DESCRIPTION:Release of Hetalia x Goodnight with Sheep Vol. 4 – Japan and China. \n\n			\n				\n			\n				\n				First Press Promo: Trading Card\n				\n			\n				\n			\n				\n				Animate Promo: Coasters\n				\n			\n				\n			\n				\n				Animate Full CD Set Promo: Pop Stand\n				\n		\n\n(Kitawiki Article) – (Product Page)
URL:https://hetarchive.net/event/hetalia-x-goodnight-with-sheep-vol-4-japan-and-china/
CATEGORIES:Merchandise Release
ATTACH;FMTTYPE=image/jpeg:https://hetarchive.net/wp-content/uploads/2017/03/hitsuji_04.jpg
END:VEVENT
BEGIN:VEVENT
DTSTART;VALUE=DATE:20100924
DTEND;VALUE=DATE:20100925
DTSTAMP:20260423T092811
CREATED:20201112T193734Z
LAST-MODIFIED:20201113T215239Z
UID:9218-1285286400-1285372799@hetarchive.net
SUMMARY:Hetalia x Goodnight with Sheep Vol. 5 - Russia\, Ukraine\, and Belarus
DESCRIPTION:Release of Hetalia x Goodnight with Sheep Vol. 5 – Russia\, Ukraine\, and Belarus. \n\n			\n				\n			\n				\n				First Press Promo: Trading Card\n				\n			\n				\n			\n				\n				Animate Promo: Coasters\n				\n		\n\n(Kitawiki Article) – (Product Page)
URL:https://hetarchive.net/event/hetalia-x-goodnight-with-sheep-vol-5-russia-ukraine-and-belarus/
CATEGORIES:Merchandise Release
ATTACH;FMTTYPE=image/jpeg:https://hetarchive.net/wp-content/uploads/2017/03/hitsuji_05.jpg
END:VEVENT
BEGIN:VEVENT
DTSTART;VALUE=DATE:20100827
DTEND;VALUE=DATE:20100828
DTSTAMP:20260423T092811
CREATED:20201112T194058Z
LAST-MODIFIED:20201113T214710Z
UID:9225-1282867200-1282953599@hetarchive.net
SUMMARY:Hetalia x Goodnight with Sheep Vol. 3 - Hungary\, Austria\, Holy Roman Empire\, and Italy
DESCRIPTION:Release of Hetalia x Goodnight with Sheep Vol. 3 – Hungary\, Austria\, Holy Roman Empire\, and Italy. \n\n			\n				\n			\n				\n				First Press Promo: Trading Card\n				\n			\n				\n			\n				\n				Animate Promo: Coasters\n				\n			\n				\n			\n				\n				Animate Full CD Set Promo: Pop Stand\n				\n		\n\n(Kitawiki Article) – (Product Page)
URL:https://hetarchive.net/event/hetalia-x-goodnight-with-sheep-vol-3-hungary-austria-holy-roman-empire-and-italy/
CATEGORIES:Merchandise Release
ATTACH;FMTTYPE=image/jpeg:https://hetarchive.net/wp-content/uploads/2017/03/hitsuji_03.jpg
END:VEVENT
BEGIN:VEVENT
DTSTART;VALUE=DATE:20100827
DTEND;VALUE=DATE:20100828
DTSTAMP:20260423T092811
CREATED:20201113T150250Z
LAST-MODIFIED:20201113T150959Z
UID:9331-1282867200-1282953599@hetarchive.net
SUMMARY:Hetalia x Goodnight with Sheep Series Box 1
DESCRIPTION:Limited release of Hetalia x Goodnight with Sheep Series Box 1. The box contained Hetalia x Goodnight with Sheep volumes 1 ~ 3\, and included an extra space for volume 4. The box was sold on consignment at Frontier Works’ booth during Summer Comiket 78\, and on Honeybee’s online shop for a limited time.
URL:https://hetarchive.net/event/hetalia-x-goodnight-with-sheep-series-box-1/
CATEGORIES:Merchandise Release
ATTACH;FMTTYPE=image/jpeg:https://hetarchive.net/wp-content/uploads/2020/11/box1-2b.jpg
END:VEVENT
BEGIN:VEVENT
DTSTART;VALUE=DATE:20100827
DTEND;VALUE=DATE:20100828
DTSTAMP:20260423T092811
CREATED:20201112T195405Z
LAST-MODIFIED:20201113T155649Z
UID:9231-1282867200-1282953599@hetarchive.net
SUMMARY:Hetalia x Goodnight with Sheep Vol. 1 - Italy Veneziano and Romano
DESCRIPTION:Release of Hetalia x Goodnight with Sheep Vol. 1 – Italy Veneziano and Romano. \n\n			\n				\n			\n				\n				First Press Promo: Trading Card\n				\n			\n				\n			\n				\n				Animate Promo: Italy Coaster\n				\n			\n				\n			\n				\n				Animate Promo: Romano Coaster\n				\n			\n				\n			\n				\n				Animate Full CD Set Promo: Pop Stand\n				\n		\n\n(Kitawiki Article) – (Product Page)
URL:https://hetarchive.net/event/hetalia-x-goodnight-with-sheep-vol-1-italy-veneziano-and-romano/
CATEGORIES:Merchandise Release
ATTACH;FMTTYPE=image/jpeg:https://hetarchive.net/wp-content/uploads/2017/03/hitsuji_01.jpg
END:VEVENT
BEGIN:VEVENT
DTSTART;VALUE=DATE:20100827
DTEND;VALUE=DATE:20100828
DTSTAMP:20260423T092811
CREATED:20201112T195151Z
LAST-MODIFIED:20201113T185203Z
UID:9229-1282867200-1282953599@hetarchive.net
SUMMARY:Hetalia x Goodnight with Sheep Vol. 2 - Germany and Prussia
DESCRIPTION:Release of Hetalia x Goodnight with Sheep Vol. 2 – Germany and Prussia. \n\n			\n				\n			\n				\n				First Press Promo: Trading Card\n				\n			\n				\n			\n				\n				Animate Promo: Coasters\n				\n		\n\n(Kitawiki Article) – (Product Page)
URL:https://hetarchive.net/event/hetalia-x-goodnight-with-sheep-vol-2-germany-and-prussia/
CATEGORIES:Merchandise Release
ATTACH;FMTTYPE=image/jpeg:https://hetarchive.net/wp-content/uploads/2017/03/hitsuji_02.jpg
END:VEVENT
BEGIN:VEVENT
DTSTART;VALUE=DATE:20100630
DTEND;VALUE=DATE:20100701
DTSTAMP:20260423T092811
CREATED:20201121T103819Z
LAST-MODIFIED:20201121T103819Z
UID:9484-1277856000-1277942399@hetarchive.net
SUMMARY:Comic Birz 2010\, August Issue
DESCRIPTION:Included Hetalia: Axis Powers “1.4million Copies Thank You Comic”.
URL:https://hetarchive.net/event/comic-birz-2010-august-issue/
CATEGORIES:Magazine Feature
ATTACH;FMTTYPE=image/jpeg:https://hetarchive.net/wp-content/uploads/2020/11/comicbirz201008.jpg
END:VEVENT
BEGIN:VEVENT
DTSTART;VALUE=DATE:20100623
DTEND;VALUE=DATE:20100624
DTSTAMP:20260423T092811
CREATED:20201112T195610Z
LAST-MODIFIED:20201112T195610Z
UID:9233-1277251200-1277337599@hetarchive.net
SUMMARY:Hatafutte Parade Single
DESCRIPTION:Release of Hatafutte Parade Single. \n(Kitawiki Article)
URL:https://hetarchive.net/event/hatafutte-parade-single/
CATEGORIES:Merchandise Release
ATTACH;FMTTYPE=image/jpeg:https://hetarchive.net/wp-content/uploads/2020/11/2010-06-23-hatafutte_parade.jpg
END:VEVENT
BEGIN:VEVENT
DTSTART;VALUE=DATE:20100609
DTEND;VALUE=DATE:20100610
DTSTAMP:20260423T092811
CREATED:20201112T195823Z
LAST-MODIFIED:20201130T200359Z
UID:9236-1276041600-1276127999@hetarchive.net
SUMMARY:Silver Screen Hetalia: Sound World
DESCRIPTION:Release of Silver Screen Hetalia: Sound World. \n\n			\n				\n			\n				\n				First Press Promo: Trading Card\n				\n		\n\n(Kitawiki Article)
URL:https://hetarchive.net/event/silver-screen-hetalia-sound-world/
CATEGORIES:Merchandise Release
ATTACH;FMTTYPE=image/jpeg:https://hetarchive.net/wp-content/uploads/2020/11/2010-06-09paint_it_white-sound_world.jpg
END:VEVENT
BEGIN:VEVENT
DTSTART;VALUE=DATE:20100609
DTEND;VALUE=DATE:20100610
DTSTAMP:20260423T092811
CREATED:20201112T200029Z
LAST-MODIFIED:20201130T200446Z
UID:9239-1276041600-1276127999@hetarchive.net
SUMMARY:Wa! Wa!! World Ondo Single
DESCRIPTION:Release of Wa! Wa!! World Ondo Single. \n\n			\n				\n			\n				\n				First Press Promo: Trading Card\n				\n		\n\n(Kitawiki Article)
URL:https://hetarchive.net/event/wa-wa-world-ondo-single/
CATEGORIES:Merchandise Release
ATTACH;FMTTYPE=image/jpeg:https://hetarchive.net/wp-content/uploads/2020/11/2010-06-09-wawa_world_ondo.jpg
END:VEVENT
BEGIN:VEVENT
DTSTART;VALUE=DATE:20100605
DTEND;VALUE=DATE:20100606
DTSTAMP:20260423T092811
CREATED:20201112T200428Z
LAST-MODIFIED:20201112T200428Z
UID:9242-1275696000-1275782399@hetarchive.net
SUMMARY:Mein Gott! Single
DESCRIPTION:Release of limited edition Mein Gott! Single with ticket sales for Silver Screen Hetalia: Paint it\, White. \n(Kitawiki Article)
URL:https://hetarchive.net/event/mein-gott-single/
CATEGORIES:Merchandise Release
ATTACH;FMTTYPE=image/jpeg:https://hetarchive.net/wp-content/uploads/2020/11/2010-06-05-mein_gott.jpg
END:VEVENT
BEGIN:VEVENT
DTSTART;VALUE=DATE:20100324
DTEND;VALUE=DATE:20100325
DTSTAMP:20260423T092811
CREATED:20201112T200623Z
LAST-MODIFIED:20201113T004755Z
UID:9246-1269388800-1269475199@hetarchive.net
SUMMARY:Hetalia: Axis Powers Character CD Vol. 8 - China
DESCRIPTION:Release of Hetalia: Axis Powers Character CD Vol. 8 – China. \n\n			\n				\n			\n				\n				First Press Promo: Trading Card\n				\n		\n\n(Kitawiki Article)
URL:https://hetarchive.net/event/hetalia-axis-powers-character-cd-vol-8-china/
CATEGORIES:Merchandise Release
ATTACH;FMTTYPE=image/jpeg:https://hetarchive.net/wp-content/uploads/2017/03/chinacdcover.jpg
END:VEVENT
BEGIN:VEVENT
DTSTART;VALUE=DATE:20100227
DTEND;VALUE=DATE:20100228
DTSTAMP:20260423T092811
CREATED:20201123T015703Z
LAST-MODIFIED:20201124T102528Z
UID:9487-1267228800-1267315199@hetarchive.net
SUMMARY:Comic Birz 2010\, April Issue
DESCRIPTION:Included info about the Silver Screen Hetalia movie. Also included a set of schedule stickers. \n\n			\n				\n			\n				\n				Comic Birz Promo: Schedule Stickers
URL:https://hetarchive.net/event/comic-birz-2010-april-issue/
CATEGORIES:Magazine Feature
ATTACH;FMTTYPE=image/png:https://hetarchive.net/wp-content/uploads/2020/11/comicbirz201004.png
END:VEVENT
BEGIN:VEVENT
DTSTART;VALUE=DATE:20100130
DTEND;VALUE=DATE:20100131
DTSTAMP:20260423T092811
CREATED:20201124T103149Z
LAST-MODIFIED:20201124T103149Z
UID:9503-1264809600-1264895999@hetarchive.net
SUMMARY:Comic Birz 2010\, March Issue
DESCRIPTION:Included a feature on Hetalia. Also included a trading card. \n\n			\n				\n			\n				\n				Comic Birz Promo: Trading Card
URL:https://hetarchive.net/event/comic-birz-2010-march-issue/
CATEGORIES:Magazine Feature
ATTACH;FMTTYPE=image/png:https://hetarchive.net/wp-content/uploads/2020/11/comicbirz201003b.jpg.png
END:VEVENT
BEGIN:VEVENT
DTSTART;VALUE=DATE:20100120
DTEND;VALUE=DATE:20100121
DTSTAMP:20260423T092811
CREATED:20201112T200804Z
LAST-MODIFIED:20201113T004819Z
UID:9248-1263945600-1264031999@hetarchive.net
SUMMARY:Hetalia: Axis Powers Character CD Vol. 7 - Russia
DESCRIPTION:Release of Hetalia: Axis Powers Character CD Vol. 7 – Russia. \n\n			\n				\n			\n				\n				First Press Promo: Trading Cards\n				\n		\n\n(Kitawiki Article)
URL:https://hetarchive.net/event/hetalia-axis-powers-character-cd-vol-7-russia/
CATEGORIES:Merchandise Release
ATTACH;FMTTYPE=image/jpeg:https://hetarchive.net/wp-content/uploads/2017/03/russiacdcover.jpg
END:VEVENT
BEGIN:VEVENT
DTSTART;VALUE=DATE:20091228
DTEND;VALUE=DATE:20091229
DTSTAMP:20260423T092811
CREATED:20201124T103437Z
LAST-MODIFIED:20201124T103437Z
UID:9508-1261958400-1262044799@hetarchive.net
SUMMARY:Comic Birz 2010\, February Issue
DESCRIPTION:Included a feature on Hetalia. Also included a trading card. \n\n			\n				\n			\n				\n				Comic Birz Promo: Trading Card
URL:https://hetarchive.net/event/comic-birz-2010-february-issue/
CATEGORIES:Magazine Feature
ATTACH;FMTTYPE=image/png:https://hetarchive.net/wp-content/uploads/2020/11/comicbirz201002b.jpg.png
END:VEVENT
BEGIN:VEVENT
DTSTART;VALUE=DATE:20091125
DTEND;VALUE=DATE:20091126
DTSTAMP:20260423T092811
CREATED:20201112T201004Z
LAST-MODIFIED:20201130T200415Z
UID:9250-1259107200-1259193599@hetarchive.net
SUMMARY:Hetalia: Axis Powers: Sound World
DESCRIPTION:Release of Hetalia: Axis Powers: Sound World.\nPrice: 2200 yen \n\n			\n				\n			\n				\n				First Press Promo: Christmas Card\n				\n		\n\n(Kitawiki Article) – (Product Page Cache)
URL:https://hetarchive.net/event/hetalia-axis-powers-sound-world/
CATEGORIES:Merchandise Release
ATTACH;FMTTYPE=image/jpeg:https://hetarchive.net/wp-content/uploads/2020/11/2009-11-25-axis_powers-sound_world.jpg
END:VEVENT
BEGIN:VEVENT
DTSTART;VALUE=DATE:20091124
DTEND;VALUE=DATE:20091125
DTSTAMP:20260423T092811
CREATED:20201112T201222Z
LAST-MODIFIED:20201113T004531Z
UID:9253-1259020800-1259107199@hetarchive.net
SUMMARY:Hetalia: Axis Powers Character CD Vol. 6 - USA
DESCRIPTION:Release of Hetalia: Axis Powers Character CD Vol. 6 – USA. \n\n			\n				\n			\n				\n				First Press Promo: Trading Card\n				\n		\n\n(Kitawiki Article)
URL:https://hetarchive.net/event/hetalia-axis-powers-character-cd-vol-6-usa/
CATEGORIES:Merchandise Release
ATTACH;FMTTYPE=image/jpeg:https://hetarchive.net/wp-content/uploads/2017/03/americacdcover.jpg
END:VEVENT
BEGIN:VEVENT
DTSTART;VALUE=DATE:20091030
DTEND;VALUE=DATE:20091031
DTSTAMP:20260423T092811
CREATED:20201125T102429Z
LAST-MODIFIED:20201125T102429Z
UID:9512-1256860800-1256947199@hetarchive.net
SUMMARY:Comic Birz 2009\, December Issue
DESCRIPTION:Included a feature on Hetalia. Also included a trading card. \n\n			\n				\n			\n				\n				Comic Birz Bonus: Trading Card
URL:https://hetarchive.net/event/comic-birz-2009-december-issue/
CATEGORIES:Magazine Feature
ATTACH;FMTTYPE=image/jpeg:https://hetarchive.net/wp-content/uploads/2020/11/comicbirz200912.jpg
END:VEVENT
BEGIN:VEVENT
DTSTART;VALUE=DATE:20090930
DTEND;VALUE=DATE:20091001
DTSTAMP:20260423T092811
CREATED:20201125T102928Z
LAST-MODIFIED:20201125T102928Z
UID:9516-1254268800-1254355199@hetarchive.net
SUMMARY:Comic Birz 2009\, November Issue
DESCRIPTION:Included a feature on Hetalia. Also included a trading card. \n\n			\n				\n			\n				\n				Comic Birz Bonus: Trading Card
URL:https://hetarchive.net/event/comic-birz-2009-november-issue/
CATEGORIES:Magazine Feature
ATTACH;FMTTYPE=image/png:https://hetarchive.net/wp-content/uploads/2020/11/comicbirz200911b.jpg.png
END:VEVENT
BEGIN:VEVENT
DTSTART;VALUE=DATE:20090930
DTEND;VALUE=DATE:20091001
DTSTAMP:20260423T092811
CREATED:20201112T201406Z
LAST-MODIFIED:20201113T004402Z
UID:9255-1254268800-1254355199@hetarchive.net
SUMMARY:Hetalia: Axis Powers Character CD Vol. 5 - France
DESCRIPTION:Release of Hetalia: Axis Powers Character CD Vol. 5 – France. \n\n			\n				\n			\n				\n				First Press Promo: Trading Card\n				\n		\n\n(Kitawiki Article)
URL:https://hetarchive.net/event/hetalia-axis-powers-character-cd-vol-5-france/
CATEGORIES:Merchandise Release
ATTACH;FMTTYPE=image/jpeg:https://hetarchive.net/wp-content/uploads/2017/03/francecdcover.jpg
END:VEVENT
BEGIN:VEVENT
DTSTART;VALUE=DATE:20090827
DTEND;VALUE=DATE:20090828
DTSTAMP:20260423T092811
CREATED:20201112T201858Z
LAST-MODIFIED:20201130T201445Z
UID:9257-1251331200-1251417599@hetarchive.net
SUMMARY:Hetalia Fantasia
DESCRIPTION:Release of Hetalia Fantasia. This was a mail-order gift for purchasing Hetalia: Axis Powers volume 2. \n\n			\n				\n			\n				\n				Bonus: Trading Card\n				\n		\n\n(Kitawiki Article)
URL:https://hetarchive.net/event/hetalia-fantasia/
CATEGORIES:Merchandise Release
ATTACH;FMTTYPE=image/jpeg:https://hetarchive.net/wp-content/uploads/2017/03/fantasia_01.jpg
END:VEVENT
BEGIN:VEVENT
DTSTART;VALUE=DATE:20090826
DTEND;VALUE=DATE:20090827
DTSTAMP:20260423T092811
CREATED:20201112T202127Z
LAST-MODIFIED:20201130T201350Z
UID:9259-1251244800-1251331199@hetarchive.net
SUMMARY:Hetalia Drama CD Interval Vol. 1: The CD Of The Awesome Me
DESCRIPTION:Release of Hetalia Drama CD Interval Vol. 1: The CD Of The Awesome Me. \n\n			\n				\n			\n				\n				First Press Promo: Trading Card\n				\n		\n\n(Kitawiki Article)
URL:https://hetarchive.net/event/hetalia-drama-cd-interval-vol-1-the-cd-of-the-awesome-me/
CATEGORIES:Merchandise Release
ATTACH;FMTTYPE=image/jpeg:https://hetarchive.net/wp-content/uploads/2017/03/interval_01.jpg
END:VEVENT
BEGIN:VEVENT
DTSTART;VALUE=DATE:20090729
DTEND;VALUE=DATE:20090730
DTSTAMP:20260423T092811
CREATED:20201112T202338Z
LAST-MODIFIED:20201113T004202Z
UID:9261-1248825600-1248911999@hetarchive.net
SUMMARY:Hetalia: Axis Powers Character CD Vol. 4 - UK
DESCRIPTION:Release of Hetalia: Axis Powers Character CD Vol. 4 – UK. \n\n			\n				\n			\n				\n				First Press Promo: Trading Card\n				\n		\n\n(Kitawiki Article)
URL:https://hetarchive.net/event/hetalia-axis-powers-character-cd-vol-4-uk/
CATEGORIES:Merchandise Release
ATTACH;FMTTYPE=image/jpeg:https://hetarchive.net/wp-content/uploads/2017/03/englandcdcover.jpg
END:VEVENT
BEGIN:VEVENT
DTSTART;VALUE=DATE:20090603
DTEND;VALUE=DATE:20090604
DTSTAMP:20260423T092811
CREATED:20201112T202540Z
LAST-MODIFIED:20201130T201343Z
UID:9263-1243987200-1244073599@hetarchive.net
SUMMARY:Hetalia Drama CD: Volume 2
DESCRIPTION:Release of Hetalia Drama CD: Volume 2. \n\n			\n				\n			\n				\n				First Press Promo: Trading Card\n				\n		\n\n(Kitawiki Article)
URL:https://hetarchive.net/event/hetalia-drama-cd-volume-2/
CATEGORIES:Merchandise Release
ATTACH;FMTTYPE=image/jpeg:https://hetarchive.net/wp-content/uploads/2017/03/drama_02.jpg
END:VEVENT
END:VCALENDAR