BEGIN:VCALENDAR
VERSION:2.0
PRODID:-//Hetarchive - ECPv6.15.16.1//NONSGML v1.0//EN
CALSCALE:GREGORIAN
METHOD:PUBLISH
X-WR-CALNAME:Hetarchive
X-ORIGINAL-URL:https://hetarchive.net
X-WR-CALDESC:Events for Hetarchive
REFRESH-INTERVAL;VALUE=DURATION:PT1H
X-Robots-Tag:noindex
X-PUBLISHED-TTL:PT1H
BEGIN:VTIMEZONE
TZID:America/Mexico_City
BEGIN:DAYLIGHT
TZOFFSETFROM:-0600
TZOFFSETTO:-0500
TZNAME:CDT
DTSTART:20090405T080000
END:DAYLIGHT
BEGIN:STANDARD
TZOFFSETFROM:-0500
TZOFFSETTO:-0600
TZNAME:CST
DTSTART:20091025T070000
END:STANDARD
BEGIN:DAYLIGHT
TZOFFSETFROM:-0600
TZOFFSETTO:-0500
TZNAME:CDT
DTSTART:20100404T080000
END:DAYLIGHT
BEGIN:STANDARD
TZOFFSETFROM:-0500
TZOFFSETTO:-0600
TZNAME:CST
DTSTART:20101031T070000
END:STANDARD
BEGIN:DAYLIGHT
TZOFFSETFROM:-0600
TZOFFSETTO:-0500
TZNAME:CDT
DTSTART:20110403T080000
END:DAYLIGHT
BEGIN:STANDARD
TZOFFSETFROM:-0500
TZOFFSETTO:-0600
TZNAME:CST
DTSTART:20111030T070000
END:STANDARD
BEGIN:DAYLIGHT
TZOFFSETFROM:-0600
TZOFFSETTO:-0500
TZNAME:CDT
DTSTART:20120401T080000
END:DAYLIGHT
BEGIN:STANDARD
TZOFFSETFROM:-0500
TZOFFSETTO:-0600
TZNAME:CST
DTSTART:20121028T070000
END:STANDARD
BEGIN:DAYLIGHT
TZOFFSETFROM:-0600
TZOFFSETTO:-0500
TZNAME:CDT
DTSTART:20130407T080000
END:DAYLIGHT
BEGIN:STANDARD
TZOFFSETFROM:-0500
TZOFFSETTO:-0600
TZNAME:CST
DTSTART:20131027T070000
END:STANDARD
END:VTIMEZONE
BEGIN:VEVENT
DTSTART;VALUE=DATE:20120830
DTEND;VALUE=DATE:20120831
DTSTAMP:20260423T075642
CREATED:20201117T101958Z
LAST-MODIFIED:20201124T102412Z
UID:9439-1346284800-1346371199@hetarchive.net
SUMMARY:Comic Birz 2012\, October Issue
DESCRIPTION:Included Hetalia: Axis Powers Serialization – Episode 10. Collected as “Track.4 – Germany and Cohabitation” in Axis Powers Volume 6. Also included an autograph board. \n\n			\n				\n			\n				\n				Comic Birz Promo: Autograph Board
URL:https://hetarchive.net/event/comic-birz-2012-october-issue/
CATEGORIES:Magazine Feature
ATTACH;FMTTYPE=image/jpeg:https://hetarchive.net/wp-content/uploads/2020/11/comicbirz201210b.jpg
END:VEVENT
BEGIN:VEVENT
DTSTART;VALUE=DATE:20120731
DTEND;VALUE=DATE:20120801
DTSTAMP:20260423T075642
CREATED:20201114T103342Z
LAST-MODIFIED:20201117T024130Z
UID:9413-1343692800-1343779199@hetarchive.net
SUMMARY:Hetalia: Axis Powers Volume 5
DESCRIPTION:Release of Axis Powers Volume 6 in Japan. \n\n			\n				\n			\n				\n				Limited Edition Cover\n				\n			\n				\n			\n				\n				Limited Edition Booklet Cover\n				\n		\n\n(Kitawiki Article) – (Product Page)
URL:https://hetarchive.net/event/hetalia-axis-powers-volume-5/
CATEGORIES:Merchandise Release
ATTACH;FMTTYPE=image/jpeg:https://hetarchive.net/wp-content/uploads/2020/11/vol-05.jpg
END:VEVENT
BEGIN:VEVENT
DTSTART;VALUE=DATE:20120730
DTEND;VALUE=DATE:20120731
DTSTAMP:20260423T075642
CREATED:20201117T102419Z
LAST-MODIFIED:20201117T103440Z
UID:9444-1343606400-1343692799@hetarchive.net
SUMMARY:Comic Birz 2012\, September Issue
DESCRIPTION:Included Hetalia: Axis Powers Serialization – Episode 9. Collected as “Track.3 – Mr. Canada and His Neighbours” in Axis Powers Volume 6.
URL:https://hetarchive.net/event/comic-birz-2012-september-issue/
CATEGORIES:Magazine Feature
ATTACH;FMTTYPE=image/jpeg:https://hetarchive.net/wp-content/uploads/2020/11/comicbirz201209.jpg
END:VEVENT
BEGIN:VEVENT
DTSTART;VALUE=DATE:20120725
DTEND;VALUE=DATE:20120726
DTSTAMP:20260423T075642
CREATED:20201112T190448Z
LAST-MODIFIED:20201130T201405Z
UID:9191-1343174400-1343260799@hetarchive.net
SUMMARY:Hetalia Drama CD Interval Vol. 3: Nordic Five!
DESCRIPTION:Release of Hetalia Drama CD Interval Vol. 3: Nordic Five! \n(Kitawiki Article)
URL:https://hetarchive.net/event/hetalia-drama-cd-interval-vol-3-nordic-five/
CATEGORIES:Merchandise Release
ATTACH;FMTTYPE=image/jpeg:https://hetarchive.net/wp-content/uploads/2017/03/interval_03.jpg
END:VEVENT
BEGIN:VEVENT
DTSTART;VALUE=DATE:20120530
DTEND;VALUE=DATE:20120531
DTSTAMP:20260423T075642
CREATED:20201117T103042Z
LAST-MODIFIED:20201130T185223Z
UID:9447-1338336000-1338422399@hetarchive.net
SUMMARY:Comic Birz 2012\, July Issue
DESCRIPTION:Included Hetalia: Axis Powers Serialization – Episode 8. Collected as “Track.8 – A Wise Man has No Specialty” in Axis Powers Volume 5.
URL:https://hetarchive.net/event/comic-birz-2012-july-issue/
CATEGORIES:Magazine Feature
ATTACH;FMTTYPE=image/jpeg:https://hetarchive.net/wp-content/uploads/2020/11/comicbirz201207.jpg
END:VEVENT
BEGIN:VEVENT
DTSTART;VALUE=DATE:20120428
DTEND;VALUE=DATE:20120429
DTSTAMP:20260423T075642
CREATED:20201117T103353Z
LAST-MODIFIED:20201117T103353Z
UID:9450-1335571200-1335657599@hetarchive.net
SUMMARY:Comic Birz 2012\, June Issue
DESCRIPTION:Included Hetalia: Axis Powers Serialization – Episode 7. Collected as “Track.7 – Together with Russia” in Axis Powers Volume 5.
URL:https://hetarchive.net/event/comic-birz-2012-june-issue/
CATEGORIES:Magazine Feature
ATTACH;FMTTYPE=image/jpeg:https://hetarchive.net/wp-content/uploads/2020/11/comicbirz201206.jpg
END:VEVENT
BEGIN:VEVENT
DTSTART;VALUE=DATE:20120330
DTEND;VALUE=DATE:20120331
DTSTAMP:20260423T075642
CREATED:20201118T102031Z
LAST-MODIFIED:20201124T102337Z
UID:9453-1333065600-1333151999@hetarchive.net
SUMMARY:Comic Birz 2012\, May Issue
DESCRIPTION:Included Hetalia: Axis Powers Serialization – Episode 6. Collected as “Track.6 – Which Country is That?” in Axis Powers Volume 5. Also Included an alternate book cover for the Artestella Piccolo artbook. \n\n			\n				\n			\n				\n				Comic Birz Promo: Artestella Piccolo Alternate Cover
URL:https://hetarchive.net/event/comic-birz-2012-may-issue/
CATEGORIES:Magazine Feature
ATTACH;FMTTYPE=image/jpeg:https://hetarchive.net/wp-content/uploads/2020/11/comicbirz201205.jpg
END:VEVENT
BEGIN:VEVENT
DTSTART;VALUE=DATE:20120229
DTEND;VALUE=DATE:20120301
DTSTAMP:20260423T075642
CREATED:20201118T102408Z
LAST-MODIFIED:20201124T102227Z
UID:9457-1330473600-1330559999@hetarchive.net
SUMMARY:Comic Birz 2012\, April Issue
DESCRIPTION:Included Hetalia: Axis Powers Serialization – Episode 5. Collected as “Track.5 – Liberté\, égalité\, fraternité and…” in Axis Powers Volume 5. Also included a set of schedule stickers. \n\n			\n				\n			\n				\n				Comic Birz Promo: Schedule Stickers
URL:https://hetarchive.net/event/comic-birz-2012-april-issue/
CATEGORIES:Magazine Feature
ATTACH;FMTTYPE=image/jpeg:https://hetarchive.net/wp-content/uploads/2020/11/comicbirz201204.jpg
END:VEVENT
BEGIN:VEVENT
DTSTART;VALUE=DATE:20120130
DTEND;VALUE=DATE:20120131
DTSTAMP:20260423T075642
CREATED:20201118T103002Z
LAST-MODIFIED:20201130T194531Z
UID:9461-1327881600-1327967999@hetarchive.net
SUMMARY:Comic Birz 2012\, March Issue
DESCRIPTION:“Hetalia Axis Powers” feature in magazine. Also included a calendar trading card. \n\n			\n				\n			\n				\n				Comic Birz Promo: Calendar Car
URL:https://hetarchive.net/event/comic-birz-2012-march-issue/
ATTACH;FMTTYPE=image/jpeg:https://hetarchive.net/wp-content/uploads/2020/11/comicbirz201203.jpg
END:VEVENT
BEGIN:VEVENT
DTSTART;VALUE=DATE:20111228
DTEND;VALUE=DATE:20111229
DTSTAMP:20260423T075642
CREATED:20201118T103240Z
LAST-MODIFIED:20201118T103240Z
UID:9465-1325030400-1325116799@hetarchive.net
SUMMARY:Comic Birz 2012\, February Issue
DESCRIPTION:Included Hetalia: Axis Powers Serialization – Episode 4. Collected as “Track.4 – Let’s Eat Military Rations!” in Axis Powers Volume 5.
URL:https://hetarchive.net/event/comic-birz-2012-february-issue/
CATEGORIES:Magazine Feature
ATTACH;FMTTYPE=image/jpeg:https://hetarchive.net/wp-content/uploads/2020/11/birz201202-00b.jpg
END:VEVENT
BEGIN:VEVENT
DTSTART;VALUE=DATE:20111130
DTEND;VALUE=DATE:20111201
DTSTAMP:20260423T075642
CREATED:20201119T145001Z
LAST-MODIFIED:20201124T102128Z
UID:9468-1322611200-1322697599@hetarchive.net
SUMMARY:Comic Birz 2012\, January Issue
DESCRIPTION:Included Hetalia: Axis Powers Serialization – Episode 3. Collected as “Track.3 – It’s the First Anniversary! The Tripartite Pact” in Axis Powers Volume 5. Also included a paper insert for a tumbler. \n\n			\n				\n			\n				\n				Comic Birz Promo: Tumbler Paper Insert
URL:https://hetarchive.net/event/comic-birz-2012-january-issue/
CATEGORIES:Magazine Feature
ATTACH;FMTTYPE=image/jpeg:https://hetarchive.net/wp-content/uploads/2020/11/comicbirz201201.jpg
END:VEVENT
BEGIN:VEVENT
DTSTART;VALUE=DATE:20111102
DTEND;VALUE=DATE:20111103
DTSTAMP:20260423T075642
CREATED:20201112T204313Z
LAST-MODIFIED:20201130T201433Z
UID:9284-1320192000-1320278399@hetarchive.net
SUMMARY:Hetalia Fantasia 3
DESCRIPTION:Release of Hetalia Fantasia 3. This was a mail-order gift for purchasing Hetalia: Axis Powers volume 4. \n(Kitawiki Article)
URL:https://hetarchive.net/event/hetalia-fantasia-3/
CATEGORIES:Merchandise Release
ATTACH;FMTTYPE=image/jpeg:https://hetarchive.net/wp-content/uploads/2017/03/fantasia_03.jpg
END:VEVENT
BEGIN:VEVENT
DTSTART;VALUE=DATE:20111029
DTEND;VALUE=DATE:20111030
DTSTAMP:20260423T075642
CREATED:20201119T145431Z
LAST-MODIFIED:20201124T102043Z
UID:9472-1319846400-1319932799@hetarchive.net
SUMMARY:Comic Birz 2011\, December Issue
DESCRIPTION:Included Hetalia: Axis Powers Serialization – Episode 2. Collected as “Track.2 – African War Front! Part 2” in Axis Powers Volume 5. Also included a holiday sticker. \n\n			\n				\n			\n				\n				Comic Birz Promo: Holiday Stickers
URL:https://hetarchive.net/event/comic-birz-2011-december-issue/
CATEGORIES:Magazine Feature
ATTACH;FMTTYPE=image/jpeg:https://hetarchive.net/wp-content/uploads/2020/11/comicbirz201112.jpg
END:VEVENT
BEGIN:VEVENT
DTSTART;VALUE=DATE:20111026
DTEND;VALUE=DATE:20111027
DTSTAMP:20260423T075642
CREATED:20201112T190713Z
LAST-MODIFIED:20201112T190713Z
UID:9194-1319587200-1319673599@hetarchive.net
SUMMARY:DJCD Hetalia World Web Radio - Hetalira
DESCRIPTION:Release of DJCD Hetalia World Web Radio – Hetalira. \n(Kitawiki Article)
URL:https://hetarchive.net/event/djcd-hetalia-world-web-radio-hetalira/
CATEGORIES:Merchandise Release
ATTACH;FMTTYPE=image/jpeg:https://hetarchive.net/wp-content/uploads/2020/11/2011-10-26-djcd-world_web_radio.jpg
END:VEVENT
BEGIN:VEVENT
DTSTART;VALUE=DATE:20110930
DTEND;VALUE=DATE:20111001
DTSTAMP:20260423T075642
CREATED:20201121T102956Z
LAST-MODIFIED:20201124T101925Z
UID:9477-1317340800-1317427199@hetarchive.net
SUMMARY:Comic Birz 2011\, November Issue
DESCRIPTION:Included Hetalia: Axis Powers Serialization – Episode 1. Collected as “Track.1 – African War Front! Part 1” in Axis Powers Volume 5. Also included a collector box for Axis Powers volumes 1 ~ 4. \n\n			\n				\n			\n				\n				Comic Birz Promo: Hetalia Axis Powers Volumes 1-4 Comics Box
URL:https://hetarchive.net/event/birz-2011-november-issue/
CATEGORIES:Magazine Feature
ATTACH;FMTTYPE=image/jpeg:https://hetarchive.net/wp-content/uploads/2020/11/comicbirz-201111.jpg
END:VEVENT
BEGIN:VEVENT
DTSTART;VALUE=DATE:20110630
DTEND;VALUE=DATE:20110701
DTSTAMP:20260423T075642
CREATED:20201117T024008Z
LAST-MODIFIED:20201117T024008Z
UID:9418-1309392000-1309478399@hetarchive.net
SUMMARY:Hetalia: Axis Powers Volume 4
DESCRIPTION:Release of Axis Powers Volume 6 in Japan. \n\n			\n				\n			\n				\n				Limited Edition Cover\n				\n			\n				\n			\n				\n				Limited Edition Booklet Cover\n				\n			\n				\n			\n				\n				Regular Edition First Press Promo: Special Paper\n				\n		\n\n(Kitawiki Article) – (Product Page)
URL:https://hetarchive.net/event/hetalia-axis-powers-volume-4/
CATEGORIES:Merchandise Release
ATTACH;FMTTYPE=image/jpeg:https://hetarchive.net/wp-content/uploads/2020/11/vol-04.jpg
END:VEVENT
BEGIN:VEVENT
DTSTART;VALUE=DATE:20110330
DTEND;VALUE=DATE:20110331
DTSTAMP:20260423T075642
CREATED:20201112T190907Z
LAST-MODIFIED:20201112T190907Z
UID:9197-1301443200-1301529599@hetarchive.net
SUMMARY:Gakuen Hetalia Portable OP/ED Maxi Single
DESCRIPTION:Release of Gakuen Hetalia Portable OP/ED Maxi Single. \n(Kitawiki Article)
URL:https://hetarchive.net/event/gakuen-hetalia-portable-op-ed-maxi-single/
CATEGORIES:Merchandise Release
ATTACH;FMTTYPE=image/jpeg:https://hetarchive.net/wp-content/uploads/2020/11/2011-03-30-gakuen_festa.jpg
END:VEVENT
BEGIN:VEVENT
DTSTART;VALUE=DATE:20110212
DTEND;VALUE=DATE:20110213
DTSTAMP:20260423T075642
CREATED:20201112T191418Z
LAST-MODIFIED:20201113T225056Z
UID:9200-1297468800-1297555199@hetarchive.net
SUMMARY:Hetalia x Goodnight with Sheep Special Edition CD
DESCRIPTION:Release of Hetalia x Goodnight with Sheep Special Edition CD. This CD and postcard set was a mail-order gift for those who purchased all 8 volumes of the Hetalia x Goodnight with Sheep series. \n\n			\n				\n			\n				\n				Postcard Set\n				\n		\n\n(Kitawiki Article)
URL:https://hetarchive.net/event/hetalia-x-goodnight-with-sheep-special-edition-cd/
CATEGORIES:Merchandise Release
ATTACH;FMTTYPE=image/jpeg:https://hetarchive.net/wp-content/uploads/2020/11/2011-02-12-oyasumis_se-sealand_canada.jpg
END:VEVENT
BEGIN:VEVENT
DTSTART;VALUE=DATE:20101210
DTEND;VALUE=DATE:20101211
DTSTAMP:20260423T075642
CREATED:20201112T204059Z
LAST-MODIFIED:20201130T201439Z
UID:9282-1291939200-1292025599@hetarchive.net
SUMMARY:Hetalia Fantasia 2
DESCRIPTION:Release of Hetalia Fantasia 2. This was a mail-order gift for purchasing Hetalia: Axis Powers volume 3. \n(Kitawiki Article)
URL:https://hetarchive.net/event/hetalia-fantasia-2/
CATEGORIES:Merchandise Release
ATTACH;FMTTYPE=image/jpeg:https://hetarchive.net/wp-content/uploads/2017/03/fantasia_02.jpg
END:VEVENT
BEGIN:VEVENT
DTSTART;VALUE=DATE:20101208
DTEND;VALUE=DATE:20101209
DTSTAMP:20260423T075642
CREATED:20201112T192050Z
LAST-MODIFIED:20201130T201356Z
UID:9203-1291766400-1291852799@hetarchive.net
SUMMARY:Hetalia Drama CD Interval Vol. 2: Boss CD
DESCRIPTION:Release of Hetalia Drama CD Interval Vol. 2: Boss CD. \n\n			\n				\n			\n				\n				First Press Promo: Trading Card\n				\n		\n\n(Kitawiki Article)
URL:https://hetarchive.net/event/hetalia-drama-cd-interval-vol-2-boss-cd/
CATEGORIES:Merchandise Release
ATTACH;FMTTYPE=image/jpeg:https://hetarchive.net/wp-content/uploads/2017/03/interval_02.jpg
END:VEVENT
BEGIN:VEVENT
DTSTART;VALUE=DATE:20101124
DTEND;VALUE=DATE:20101125
DTSTAMP:20260423T075642
CREATED:20201112T192228Z
LAST-MODIFIED:20201114T020626Z
UID:9206-1290556800-1290643199@hetarchive.net
SUMMARY:Hetalia: World Series: Sound World
DESCRIPTION:Release of Hetalia: World Series: Sound World.\nPrice: 2000 yen \n\n			\n				\n			\n				\n				First Press Promo: Christmas Card\n				\n		\n\n(Kitawiki Article)
URL:https://hetarchive.net/event/hetalia-world-series-sound-world/
CATEGORIES:Merchandise Release
ATTACH;FMTTYPE=image/jpeg:https://hetarchive.net/wp-content/uploads/2020/11/2010-11-24world_series-sound_world.jpg
END:VEVENT
BEGIN:VEVENT
DTSTART;VALUE=DATE:20101117
DTEND;VALUE=DATE:20101118
DTSTAMP:20260423T075642
CREATED:20201112T192357Z
LAST-MODIFIED:20201113T221516Z
UID:9209-1289952000-1290038399@hetarchive.net
SUMMARY:Hetalia x Goodnight with Sheep Vol. 8 - United States of America and United Kingdom
DESCRIPTION:Release of Hetalia x Goodnight with Sheep Vol. 8 – United States of America and United Kingdom. \n\n			\n				\n			\n				\n				First Press Promo: Trading Card\n				\n			\n				\n			\n				\n				Animate Promo: USA Coaster\n				\n			\n				\n			\n				\n				Animate Promo: UK Coaster\n				\n		\n\n(Kitawiki Article) – (Product Page)
URL:https://hetarchive.net/event/hetalia-x-goodnight-with-sheep-vol-8-united-states-of-america-and-united-kingdom/
CATEGORIES:Merchandise Release
ATTACH;FMTTYPE=image/jpeg:https://hetarchive.net/wp-content/uploads/2017/03/hitsuji_08.jpg
END:VEVENT
BEGIN:VEVENT
DTSTART;VALUE=DATE:20101029
DTEND;VALUE=DATE:20101030
DTSTAMP:20260423T075642
CREATED:20201113T151108Z
LAST-MODIFIED:20201113T151108Z
UID:9334-1288310400-1288396799@hetarchive.net
SUMMARY:Hetalia x Goodnight with Sheep Series Box 2
DESCRIPTION:Limited release of Hetalia x Goodnight with Sheep Series Box 2. The box contained Hetalia x Goodnight with Sheep volumes 7 and 8\, and included an extra space for volumes 5 and 6. The box was sold at the Honeybee booth during Animate Girls Festival 2010\, and on Honeybee’s online shop for a limited time.
URL:https://hetarchive.net/event/hetalia-x-goodnight-with-sheep-series-box-2/
CATEGORIES:Merchandise Release
END:VEVENT
BEGIN:VEVENT
DTSTART;VALUE=DATE:20101029
DTEND;VALUE=DATE:20101030
DTSTAMP:20260423T075642
CREATED:20201112T192620Z
LAST-MODIFIED:20201113T221022Z
UID:9212-1288310400-1288396799@hetarchive.net
SUMMARY:Hetalia x Goodnight with Sheep Vol. 7 - Switzerland and Liechtenstein
DESCRIPTION:Release of Hetalia x Goodnight with Sheep Vol. 7 – Switzerland and Liechtenstein. \n\n			\n				\n			\n				\n				First Press Promo: Trading Card\n				\n			\n				\n			\n				\n				Animate Promo: Coasters\n				\n			\n				\n			\n				\n				Animate Full CD Set Promo: Pop Stand\n				\n		\n\n(Kitawiki Article) – (Product Page)
URL:https://hetarchive.net/event/hetalia-x-goodnight-with-sheep-vol-7-switzerland-and-liechtenstein/
CATEGORIES:Merchandise Release
ATTACH;FMTTYPE=image/jpeg:https://hetarchive.net/wp-content/uploads/2017/03/hitsuji_07.jpg
END:VEVENT
BEGIN:VEVENT
DTSTART;VALUE=DATE:20100924
DTEND;VALUE=DATE:20100925
DTSTAMP:20260423T075642
CREATED:20201112T193411Z
LAST-MODIFIED:20201113T215914Z
UID:9215-1285286400-1285372799@hetarchive.net
SUMMARY:Hetalia x Goodnight with Sheep Vol. 6 - France and Spain
DESCRIPTION:Release of Hetalia x Goodnight with Sheep Vol. 6 – France and Spain. \n\n			\n				\n			\n				\n				First Press Promo: Trading Card\n				\n			\n				\n			\n				\n				Animate Promo: Coasters\n				\n			\n				\n			\n				\n				Animate Full CD Set Promo: Pop Stand\n				\n		\n\n(Kitawiki Article) – (Product Page)
URL:https://hetarchive.net/event/hetalia-x-goodnight-with-sheep-vol-6-france-and-spain/
CATEGORIES:Merchandise Release
ATTACH;FMTTYPE=image/jpeg:https://hetarchive.net/wp-content/uploads/2017/03/hitsuji_06.jpg
END:VEVENT
BEGIN:VEVENT
DTSTART;VALUE=DATE:20100924
DTEND;VALUE=DATE:20100925
DTSTAMP:20260423T075642
CREATED:20201112T193923Z
LAST-MODIFIED:20201113T214743Z
UID:9221-1285286400-1285372799@hetarchive.net
SUMMARY:Hetalia x Goodnight with Sheep Vol. 4 - Japan and China
DESCRIPTION:Release of Hetalia x Goodnight with Sheep Vol. 4 – Japan and China. \n\n			\n				\n			\n				\n				First Press Promo: Trading Card\n				\n			\n				\n			\n				\n				Animate Promo: Coasters\n				\n			\n				\n			\n				\n				Animate Full CD Set Promo: Pop Stand\n				\n		\n\n(Kitawiki Article) – (Product Page)
URL:https://hetarchive.net/event/hetalia-x-goodnight-with-sheep-vol-4-japan-and-china/
CATEGORIES:Merchandise Release
ATTACH;FMTTYPE=image/jpeg:https://hetarchive.net/wp-content/uploads/2017/03/hitsuji_04.jpg
END:VEVENT
BEGIN:VEVENT
DTSTART;VALUE=DATE:20100924
DTEND;VALUE=DATE:20100925
DTSTAMP:20260423T075642
CREATED:20201112T193734Z
LAST-MODIFIED:20201113T215239Z
UID:9218-1285286400-1285372799@hetarchive.net
SUMMARY:Hetalia x Goodnight with Sheep Vol. 5 - Russia\, Ukraine\, and Belarus
DESCRIPTION:Release of Hetalia x Goodnight with Sheep Vol. 5 – Russia\, Ukraine\, and Belarus. \n\n			\n				\n			\n				\n				First Press Promo: Trading Card\n				\n			\n				\n			\n				\n				Animate Promo: Coasters\n				\n		\n\n(Kitawiki Article) – (Product Page)
URL:https://hetarchive.net/event/hetalia-x-goodnight-with-sheep-vol-5-russia-ukraine-and-belarus/
CATEGORIES:Merchandise Release
ATTACH;FMTTYPE=image/jpeg:https://hetarchive.net/wp-content/uploads/2017/03/hitsuji_05.jpg
END:VEVENT
BEGIN:VEVENT
DTSTART;VALUE=DATE:20100827
DTEND;VALUE=DATE:20100828
DTSTAMP:20260423T075642
CREATED:20201112T194058Z
LAST-MODIFIED:20201113T214710Z
UID:9225-1282867200-1282953599@hetarchive.net
SUMMARY:Hetalia x Goodnight with Sheep Vol. 3 - Hungary\, Austria\, Holy Roman Empire\, and Italy
DESCRIPTION:Release of Hetalia x Goodnight with Sheep Vol. 3 – Hungary\, Austria\, Holy Roman Empire\, and Italy. \n\n			\n				\n			\n				\n				First Press Promo: Trading Card\n				\n			\n				\n			\n				\n				Animate Promo: Coasters\n				\n			\n				\n			\n				\n				Animate Full CD Set Promo: Pop Stand\n				\n		\n\n(Kitawiki Article) – (Product Page)
URL:https://hetarchive.net/event/hetalia-x-goodnight-with-sheep-vol-3-hungary-austria-holy-roman-empire-and-italy/
CATEGORIES:Merchandise Release
ATTACH;FMTTYPE=image/jpeg:https://hetarchive.net/wp-content/uploads/2017/03/hitsuji_03.jpg
END:VEVENT
BEGIN:VEVENT
DTSTART;VALUE=DATE:20100827
DTEND;VALUE=DATE:20100828
DTSTAMP:20260423T075642
CREATED:20201113T150250Z
LAST-MODIFIED:20201113T150959Z
UID:9331-1282867200-1282953599@hetarchive.net
SUMMARY:Hetalia x Goodnight with Sheep Series Box 1
DESCRIPTION:Limited release of Hetalia x Goodnight with Sheep Series Box 1. The box contained Hetalia x Goodnight with Sheep volumes 1 ~ 3\, and included an extra space for volume 4. The box was sold on consignment at Frontier Works’ booth during Summer Comiket 78\, and on Honeybee’s online shop for a limited time.
URL:https://hetarchive.net/event/hetalia-x-goodnight-with-sheep-series-box-1/
CATEGORIES:Merchandise Release
ATTACH;FMTTYPE=image/jpeg:https://hetarchive.net/wp-content/uploads/2020/11/box1-2b.jpg
END:VEVENT
BEGIN:VEVENT
DTSTART;VALUE=DATE:20100827
DTEND;VALUE=DATE:20100828
DTSTAMP:20260423T075642
CREATED:20201112T195405Z
LAST-MODIFIED:20201113T155649Z
UID:9231-1282867200-1282953599@hetarchive.net
SUMMARY:Hetalia x Goodnight with Sheep Vol. 1 - Italy Veneziano and Romano
DESCRIPTION:Release of Hetalia x Goodnight with Sheep Vol. 1 – Italy Veneziano and Romano. \n\n			\n				\n			\n				\n				First Press Promo: Trading Card\n				\n			\n				\n			\n				\n				Animate Promo: Italy Coaster\n				\n			\n				\n			\n				\n				Animate Promo: Romano Coaster\n				\n			\n				\n			\n				\n				Animate Full CD Set Promo: Pop Stand\n				\n		\n\n(Kitawiki Article) – (Product Page)
URL:https://hetarchive.net/event/hetalia-x-goodnight-with-sheep-vol-1-italy-veneziano-and-romano/
CATEGORIES:Merchandise Release
ATTACH;FMTTYPE=image/jpeg:https://hetarchive.net/wp-content/uploads/2017/03/hitsuji_01.jpg
END:VEVENT
END:VCALENDAR