BEGIN:VCALENDAR
VERSION:2.0
PRODID:-//Hetarchive - ECPv6.15.16.1//NONSGML v1.0//EN
CALSCALE:GREGORIAN
METHOD:PUBLISH
X-ORIGINAL-URL:https://hetarchive.net
X-WR-CALDESC:Events for Hetarchive
REFRESH-INTERVAL;VALUE=DURATION:PT1H
X-Robots-Tag:noindex
X-PUBLISHED-TTL:PT1H
BEGIN:VTIMEZONE
TZID:America/Mexico_City
BEGIN:DAYLIGHT
TZOFFSETFROM:-0600
TZOFFSETTO:-0500
TZNAME:CDT
DTSTART:20100404T080000
END:DAYLIGHT
BEGIN:STANDARD
TZOFFSETFROM:-0500
TZOFFSETTO:-0600
TZNAME:CST
DTSTART:20101031T070000
END:STANDARD
BEGIN:DAYLIGHT
TZOFFSETFROM:-0600
TZOFFSETTO:-0500
TZNAME:CDT
DTSTART:20110403T080000
END:DAYLIGHT
BEGIN:STANDARD
TZOFFSETFROM:-0500
TZOFFSETTO:-0600
TZNAME:CST
DTSTART:20111030T070000
END:STANDARD
BEGIN:DAYLIGHT
TZOFFSETFROM:-0600
TZOFFSETTO:-0500
TZNAME:CDT
DTSTART:20120401T080000
END:DAYLIGHT
BEGIN:STANDARD
TZOFFSETFROM:-0500
TZOFFSETTO:-0600
TZNAME:CST
DTSTART:20121028T070000
END:STANDARD
BEGIN:DAYLIGHT
TZOFFSETFROM:-0600
TZOFFSETTO:-0500
TZNAME:CDT
DTSTART:20130407T080000
END:DAYLIGHT
BEGIN:STANDARD
TZOFFSETFROM:-0500
TZOFFSETTO:-0600
TZNAME:CST
DTSTART:20131027T070000
END:STANDARD
BEGIN:DAYLIGHT
TZOFFSETFROM:-0600
TZOFFSETTO:-0500
TZNAME:CDT
DTSTART:20140406T080000
END:DAYLIGHT
BEGIN:STANDARD
TZOFFSETFROM:-0500
TZOFFSETTO:-0600
TZNAME:CST
DTSTART:20141026T070000
END:STANDARD
BEGIN:DAYLIGHT
TZOFFSETFROM:-0600
TZOFFSETTO:-0500
TZNAME:CDT
DTSTART:20150405T080000
END:DAYLIGHT
BEGIN:STANDARD
TZOFFSETFROM:-0500
TZOFFSETTO:-0600
TZNAME:CST
DTSTART:20151025T070000
END:STANDARD
BEGIN:DAYLIGHT
TZOFFSETFROM:-0600
TZOFFSETTO:-0500
TZNAME:CDT
DTSTART:20160403T080000
END:DAYLIGHT
BEGIN:STANDARD
TZOFFSETFROM:-0500
TZOFFSETTO:-0600
TZNAME:CST
DTSTART:20161030T070000
END:STANDARD
END:VTIMEZONE
BEGIN:VTIMEZONE
TZID:Asia/Tokyo
BEGIN:STANDARD
TZOFFSETFROM:+0900
TZOFFSETTO:+0900
TZNAME:JST
DTSTART:20120101T000000
END:STANDARD
END:VTIMEZONE
BEGIN:VEVENT
DTSTART;VALUE=DATE:20150703
DTEND;VALUE=DATE:20150704
DTSTAMP:20260423T075920
CREATED:20201108T014548Z
LAST-MODIFIED:20201108T212138Z
UID:8939-1435881600-1435967999@hetarchive.net
SUMMARY:Hetalia World☆Stars Volume 2
DESCRIPTION:Release of World☆Stars Volume 2 in Japan. \n(Kitawiki Article)
URL:https://hetarchive.net/event/hetalia-world%e2%98%86stars-volume-2/
CATEGORIES:Merchandise Release
ATTACH;FMTTYPE=image/jpeg:https://hetarchive.net/wp-content/uploads/2020/11/worldstarsvol-02.jpg
END:VEVENT
BEGIN:VEVENT
DTSTART;VALUE=DATE:20150624
DTEND;VALUE=DATE:20150625
DTSTAMP:20260423T075920
CREATED:20201112T164028Z
LAST-MODIFIED:20201112T164028Z
UID:9139-1435104000-1435190399@hetarchive.net
SUMMARY:Hetalia: The World Twinkle Character CD Vol. 1 - Italy and Japan
DESCRIPTION:Release of Hetalia: The World Twinkle Character CD Vol. 1 – Italy and Japan. \n(Kitawiki Article)
URL:https://hetarchive.net/event/hetalia-the-world-twinkle-character-cd-vol-1-italy-and-japan/
CATEGORIES:Merchandise Release
ATTACH;FMTTYPE=image/jpeg:https://hetarchive.net/wp-content/uploads/2020/11/2015-06-24-twt_chara_cd-vol1_itjp.jpg
END:VEVENT
BEGIN:VEVENT
DTSTART;VALUE=DATE:20150204
DTEND;VALUE=DATE:20150205
DTSTAMP:20260423T075920
CREATED:20201108T040613Z
LAST-MODIFIED:20201130T204429Z
UID:8942-1423008000-1423094399@hetarchive.net
SUMMARY:Hetalia World☆Stars Volume 1
DESCRIPTION:Release of World☆Stars Volume 1 in Japan. \n(Kitawiki Article) \n\n			\n				\n			\n				\n				Animate Trial Reading Papers\n				\n			\n				\n			\n				\n				Limited Illustration Paper\n				\n			\n				\n			\n				\n				Animate Shop Limited Variant Cover\n				\n		\n\nThe Limited Illustration Paper came in different colors depending on which shop the book was purchased from.
URL:https://hetarchive.net/event/hetalia-world%e2%98%86stars-volume-1/
CATEGORIES:Merchandise Release
ATTACH;FMTTYPE=image/jpeg:https://hetarchive.net/wp-content/uploads/2020/11/worldstarsvol-01.jpg
END:VEVENT
BEGIN:VEVENT
DTSTART;VALUE=DATE:20141224
DTEND;VALUE=DATE:20141225
DTSTAMP:20260423T075920
CREATED:20201108T121054Z
LAST-MODIFIED:20201117T024543Z
UID:8984-1419379200-1419465599@hetarchive.net
SUMMARY:Hetalia: Axis Powers Speciale 3
DESCRIPTION:Reprint Omnibus of “Hetalia: Axis Powers” volumes 5 and 6. \n\n			\n				\n			\n				\n				Animega & Bunkyodo Illustration Card\n				\n		\n\n(Kitawiki Article) – (Product Page)
URL:https://hetarchive.net/event/hetalia-axis-powers-speciale-3/
CATEGORIES:Merchandise Release
ATTACH;FMTTYPE=image/jpeg:https://hetarchive.net/wp-content/uploads/2020/11/speciale3755.jpg
END:VEVENT
BEGIN:VEVENT
DTSTART;VALUE=DATE:20141024
DTEND;VALUE=DATE:20141025
DTSTAMP:20260423T075920
CREATED:20201108T210209Z
LAST-MODIFIED:20201130T185248Z
UID:8990-1414108800-1414195199@hetarchive.net
SUMMARY:Hetalia: Axis Power Speciale 2
DESCRIPTION:Reprint Omnibus of “Hetalia: Axis Powers” volumes 3 and 4. \n\n			\n				\n			\n				\n				Animega & Bunkyodo Illustration Card\n				\n		\n\n(Kitawiki Article) – (Product Page)
URL:https://hetarchive.net/event/hetalia-axis-power-speciale-2/
CATEGORIES:Merchandise Release
ATTACH;FMTTYPE=image/jpeg:https://hetarchive.net/wp-content/uploads/2020/11/speciale2.jpg
END:VEVENT
BEGIN:VEVENT
DTSTART;VALUE=DATE:20140823
DTEND;VALUE=DATE:20140824
DTSTAMP:20260423T075920
CREATED:20201108T212729Z
LAST-MODIFIED:20201117T024414Z
UID:9014-1408752000-1408838399@hetarchive.net
SUMMARY:Hetalia: Axis Powers Speciale 1
DESCRIPTION:Reprint Omnibus of “Hetalia: Axis Powers” volumes 1 and 2. \n\n			\n				\n			\n				\n				Animega & Bunkyodo Illustration Card\n				\n			\n				\n			\n				\n				Animate Illustration Card\n				\n		\n\n(Kitawiki Article) – (Product Page)
URL:https://hetarchive.net/event/hetalia-axis-powers-speciale-1/
CATEGORIES:Merchandise Release
ATTACH;FMTTYPE=image/jpeg:https://hetarchive.net/wp-content/uploads/2020/11/speciale1.jpg
END:VEVENT
BEGIN:VEVENT
DTSTART;VALUE=DATE:20140814
DTEND;VALUE=DATE:20140815
DTSTAMP:20260423T075920
CREATED:20201112T164240Z
LAST-MODIFIED:20201112T164240Z
UID:9142-1407974400-1408060799@hetarchive.net
SUMMARY:Hetalia: The Beautiful World: Mawaru Chikyuu Best
DESCRIPTION:Release of Hetalia: The Beautiful World: Mawaru Chikyuu Best. \n(Kitawiki Article)
URL:https://hetarchive.net/event/hetalia-the-beautiful-world-mawaru-chikyuu-best/
CATEGORIES:Merchandise Release
ATTACH;FMTTYPE=image/jpeg:https://hetarchive.net/wp-content/uploads/2020/11/2014-08-14-mawaru_chikyuu_best.jpg
END:VEVENT
BEGIN:VEVENT
DTSTART;VALUE=DATE:20131031
DTEND;VALUE=DATE:20131101
DTSTAMP:20260423T075920
CREATED:20201108T214102Z
LAST-MODIFIED:20201130T201725Z
UID:9019-1383177600-1383263999@hetarchive.net
SUMMARY:Hetalia: Axis Powers Volume 6
DESCRIPTION:Release of Axis Powers Volume 6 in Japan. \n\n			\n				\n			\n				\n				Limited Edition Cover\n				\n			\n				\n			\n				\n				Limited Edition Bonus CD: W Academy Newspaper Club: Sports Festival Edition!\n				\n			\n				\n			\n				\n				JBooks Preorder Card\n				\n			\n				\n			\n				\n				Toranoana Preorder Card\n				\n			\n				\n			\n				\n				Animate Preorder Coasters\n				\n		\n\n(Kitawiki Article) – (Product Page)
URL:https://hetarchive.net/event/hetalia-axis-powers-volume-6/
CATEGORIES:Merchandise Release
ATTACH;FMTTYPE=image/jpeg:https://hetarchive.net/wp-content/uploads/2020/11/vol-06.jpg
END:VEVENT
BEGIN:VEVENT
DTSTART;VALUE=DATE:20130925
DTEND;VALUE=DATE:20130926
DTSTAMP:20260423T075920
CREATED:20201112T164924Z
LAST-MODIFIED:20201112T165009Z
UID:9151-1380067200-1380153599@hetarchive.net
SUMMARY:Hetalia Character CD II Vol. 7 - Russia
DESCRIPTION:Release of Hetalia Character CD II Vol. 7 – Russia. \n(Kitawiki Article)
URL:https://hetarchive.net/event/hetalia-character-cd-ii-vol-7-russia/
CATEGORIES:Merchandise Release
ATTACH;FMTTYPE=image/jpeg:https://hetarchive.net/wp-content/uploads/2020/11/2013-09-25-chara_cdii-vol7_russia.jpg
END:VEVENT
BEGIN:VEVENT
DTSTART;VALUE=DATE:20130925
DTEND;VALUE=DATE:20130926
DTSTAMP:20260423T075920
CREATED:20201112T164500Z
LAST-MODIFIED:20201112T165238Z
UID:9145-1380067200-1380153599@hetarchive.net
SUMMARY:Hetalia: The Beautiful World: Sound World
DESCRIPTION:Release of Hetalia: The Beautiful World: Sound World. \n(Kitawiki Article)
URL:https://hetarchive.net/event/hetalia-the-beautiful-world-sound-world/
CATEGORIES:Merchandise Release
ATTACH;FMTTYPE=image/jpeg:https://hetarchive.net/wp-content/uploads/2020/11/2013-09-25-the_beautiful_world-sound_world.jpg
END:VEVENT
BEGIN:VEVENT
DTSTART;VALUE=DATE:20130925
DTEND;VALUE=DATE:20130926
DTSTAMP:20260423T075920
CREATED:20201112T164810Z
LAST-MODIFIED:20201112T165144Z
UID:9148-1380067200-1380153599@hetarchive.net
SUMMARY:Hetalia Character CD II Vol. 8 - China
DESCRIPTION:Release of Hetalia Character CD II Vol. 8 – China. \n(Kitawiki Article)
URL:https://hetarchive.net/event/hetalia-character-cd-ii-vol-8-china/
CATEGORIES:Merchandise Release
ATTACH;FMTTYPE=image/jpeg:https://hetarchive.net/wp-content/uploads/2020/11/2013-09-25-chara_cdii-vol8_china.jpg
END:VEVENT
BEGIN:VEVENT
DTSTART;TZID=America/Mexico_City:20130904T080000
DTEND;TZID=America/Mexico_City:20130904T170000
DTSTAMP:20260423T075920
CREATED:20201112T165500Z
LAST-MODIFIED:20201112T165500Z
UID:9155-1378281600-1378314000@hetarchive.net
SUMMARY:DJCD Hetalira The Beautiful World Vol. 2
DESCRIPTION:Release of DJCD Hetalira The Beautiful World Vol. 2. \n(Kitawiki Article)
URL:https://hetarchive.net/event/djcd-hetalira-the-beautiful-world-vol-2/
CATEGORIES:Merchandise Release
ATTACH;FMTTYPE=image/jpeg:https://hetarchive.net/wp-content/uploads/2020/11/2013-09-04-hetalira_djcd-vol2.jpg
END:VEVENT
BEGIN:VEVENT
DTSTART;VALUE=DATE:20130810
DTEND;VALUE=DATE:20130811
DTSTAMP:20260423T075920
CREATED:20201112T165631Z
LAST-MODIFIED:20201112T165631Z
UID:9158-1376092800-1376179199@hetarchive.net
SUMMARY:DJCD Hetalira The Beautiful World Vol. 1
DESCRIPTION:Release of DJCD Hetalira The Beautiful World Vol. 1. \n(Kitawiki Article)
URL:https://hetarchive.net/event/djcd-hetalira-the-beautiful-world-vol-1/
CATEGORIES:Merchandise Release
ATTACH;FMTTYPE=image/jpeg:https://hetarchive.net/wp-content/uploads/2020/11/2013-09-04-hetalira_djcd-vol1.jpg
END:VEVENT
BEGIN:VEVENT
DTSTART;VALUE=DATE:20130724
DTEND;VALUE=DATE:20130725
DTSTAMP:20260423T075920
CREATED:20201112T175815Z
LAST-MODIFIED:20201112T175815Z
UID:9164-1374624000-1374710399@hetarchive.net
SUMMARY:Hetalia Character CD II Vol. 5 - France
DESCRIPTION:Release of Hetalia Character CD II Vol. 5 – France. \n(Kitawiki Article)
URL:https://hetarchive.net/event/hetalia-character-cd-ii-vol-5-france/
CATEGORIES:Merchandise Release
ATTACH;FMTTYPE=image/jpeg:https://hetarchive.net/wp-content/uploads/2020/11/2013-07-24-chara_cdii-vol5_france.jpg
END:VEVENT
BEGIN:VEVENT
DTSTART;VALUE=DATE:20130724
DTEND;VALUE=DATE:20130725
DTSTAMP:20260423T075920
CREATED:20201112T175648Z
LAST-MODIFIED:20201112T175648Z
UID:9161-1374624000-1374710399@hetarchive.net
SUMMARY:Hetalia Character CD II Vol. 6 - USA
DESCRIPTION:Release of Hetalia Character CD II Vol. 6 – USA. \n(Kitawiki Article)
URL:https://hetarchive.net/event/hetalia-character-cd-ii-vol-6-usa/
CATEGORIES:Merchandise Release
ATTACH;FMTTYPE=image/jpeg:https://hetarchive.net/wp-content/uploads/2020/11/2013-07-24-chara_cdii-vol6_usa.jpg
END:VEVENT
BEGIN:VEVENT
DTSTART;VALUE=DATE:20130529
DTEND;VALUE=DATE:20130530
DTSTAMP:20260423T075920
CREATED:20201112T180109Z
LAST-MODIFIED:20201112T180109Z
UID:9170-1369785600-1369871999@hetarchive.net
SUMMARY:Hetalia Character CD II Vol. 3 - Germany
DESCRIPTION:Release of Hetalia Character CD II Vol. 3 – Germany. \n(Kitawiki Article)
URL:https://hetarchive.net/event/hetalia-character-cd-ii-vol-3-germany/
CATEGORIES:Merchandise Release
ATTACH;FMTTYPE=image/jpeg:https://hetarchive.net/wp-content/uploads/2020/11/2013-05-29-chara_cdii-vol3_germany.jpg
END:VEVENT
BEGIN:VEVENT
DTSTART;VALUE=DATE:20130529
DTEND;VALUE=DATE:20130530
DTSTAMP:20260423T075920
CREATED:20201112T175953Z
LAST-MODIFIED:20201112T175953Z
UID:9167-1369785600-1369871999@hetarchive.net
SUMMARY:Hetalia Character CD II Vol. 4 - UK
DESCRIPTION:Release of Hetalia Character CD II Vol. 4 – UK. \n(Kitawiki Article)
URL:https://hetarchive.net/event/hetalia-character-cd-ii-vol-4-uk/
CATEGORIES:Merchandise Release
ATTACH;FMTTYPE=image/jpeg:https://hetarchive.net/wp-content/uploads/2020/11/2013-05-29-chara_cdii-vol4_uk.jpg
END:VEVENT
BEGIN:VEVENT
DTSTART;VALUE=DATE:20130508
DTEND;VALUE=DATE:20130509
DTSTAMP:20260423T075920
CREATED:20201112T180233Z
LAST-MODIFIED:20201112T180239Z
UID:9173-1367971200-1368057599@hetarchive.net
SUMMARY:Hetalia Character CD II Vol. 2 - Japan
DESCRIPTION:Release of Hetalia Character CD II Vol. 2 – Japan. \n(Kitawiki Article)
URL:https://hetarchive.net/event/hetalia-character-cd-ii-vol-2-japan/
CATEGORIES:Merchandise Release
ATTACH;FMTTYPE=image/jpeg:https://hetarchive.net/wp-content/uploads/2020/11/2013-05-08-chara_cdii-vol2_japan.jpg
END:VEVENT
BEGIN:VEVENT
DTSTART;VALUE=DATE:20130508
DTEND;VALUE=DATE:20130509
DTSTAMP:20260423T075920
CREATED:20201112T180425Z
LAST-MODIFIED:20201112T180425Z
UID:9176-1367971200-1368057599@hetarchive.net
SUMMARY:Hetalia Character CD II Vol. 1 - Italy
DESCRIPTION:Release of Hetalia Character CD II Vol. 1 – Italy. \n(Kitawiki Article)
URL:https://hetarchive.net/event/hetalia-character-cd-ii-vol-1-italy/
CATEGORIES:Merchandise Release
ATTACH;FMTTYPE=image/jpeg:https://hetarchive.net/wp-content/uploads/2020/11/2013-05-08-chara_cdii-vol1_italy.jpg
END:VEVENT
BEGIN:VEVENT
DTSTART;VALUE=DATE:20130227
DTEND;VALUE=DATE:20130228
DTSTAMP:20260423T075920
CREATED:20201112T180626Z
LAST-MODIFIED:20201112T180626Z
UID:9179-1361923200-1362009599@hetarchive.net
SUMMARY:Mawaru Chikyuu Rondo Single
DESCRIPTION:Release of Mawaru Chikyuu Rondo Single. \n(Kitawiki Article)
URL:https://hetarchive.net/event/mawaru-chikyuu-rondo-single/
CATEGORIES:Merchandise Release
ATTACH;FMTTYPE=image/jpeg:https://hetarchive.net/wp-content/uploads/2020/11/2013-02-27-mawaru_chikyuu_rondo.jpg
END:VEVENT
BEGIN:VEVENT
DTSTART;VALUE=DATE:20121229
DTEND;VALUE=DATE:20121230
DTSTAMP:20260423T075920
CREATED:20201112T180818Z
LAST-MODIFIED:20201112T180818Z
UID:9182-1356739200-1356825599@hetarchive.net
SUMMARY:Hetalia: World Series: Hatafutte Best
DESCRIPTION:Release of Hetalia: World Series: Hatafutte Best. \n(Kitawiki Article)
URL:https://hetarchive.net/event/hetalia-world-series-hatafutte-best/
CATEGORIES:Merchandise Release
ATTACH;FMTTYPE=image/jpeg:https://hetarchive.net/wp-content/uploads/2020/11/2013-01-30-hatafutte_best.jpg
END:VEVENT
BEGIN:VEVENT
DTSTART;VALUE=DATE:20121219
DTEND;VALUE=DATE:20121220
DTSTAMP:20260423T075920
CREATED:20201112T204541Z
LAST-MODIFIED:20201112T204541Z
UID:9286-1355875200-1355961599@hetarchive.net
SUMMARY:Hetalia: Axis Powers W Academy Story: Advancing Very Little! W Academy Newspaper Club
DESCRIPTION:Release of Hetalia: Axis Powers W Academy Story: Advancing Very Little! W Academy Newspaper Club. This was a mail-order gift for purchasing Hetalia: Axis Powers volume 5. \n(Kitawiki Article)
URL:https://hetarchive.net/event/hetalia-axis-powers-w-academy-story-advancing-very-little-w-academy-newspaper-club/
CATEGORIES:Merchandise Release
ATTACH;FMTTYPE=image/jpeg:https://hetarchive.net/wp-content/uploads/2017/03/wacademy_01.jpg
END:VEVENT
BEGIN:VEVENT
DTSTART;VALUE=DATE:20120926
DTEND;VALUE=DATE:20120927
DTSTAMP:20260423T075920
CREATED:20201112T181205Z
LAST-MODIFIED:20201114T024831Z
UID:9188-1348617600-1348703999@hetarchive.net
SUMMARY:Hetalia Digital Single The Best Plus α
DESCRIPTION:Release of Hetalia Digital Single The Best Plus α. \n\n			\n				\n			\n				\n				First Press Promo: Sticker\n				\n		\n\n(Kitawiki Article)
URL:https://hetarchive.net/event/hetalia-digital-single-the-best-plus-%ce%b1/
CATEGORIES:Merchandise Release
ATTACH;FMTTYPE=image/jpeg:https://hetarchive.net/wp-content/uploads/2020/11/2012-09-26-digital_single_the_best.jpg
END:VEVENT
BEGIN:VEVENT
DTSTART;VALUE=DATE:20120926
DTEND;VALUE=DATE:20120927
DTSTAMP:20260423T075920
CREATED:20201112T180959Z
LAST-MODIFIED:20201112T180959Z
UID:9185-1348617600-1348703999@hetarchive.net
SUMMARY:Hetalia: Axis Powers: Marukaite Best
DESCRIPTION:Release of Hetalia: Axis Powers: Marukaite Best. \n(Kitawiki Article)
URL:https://hetarchive.net/event/hetalia-axis-powers-marukaite-best/
CATEGORIES:Merchandise Release
ATTACH;FMTTYPE=image/jpeg:https://hetarchive.net/wp-content/uploads/2020/11/2012-09-26-marukaite_best.jpg
END:VEVENT
BEGIN:VEVENT
DTSTART;VALUE=DATE:20120731
DTEND;VALUE=DATE:20120801
DTSTAMP:20260423T075920
CREATED:20201114T103342Z
LAST-MODIFIED:20201117T024130Z
UID:9413-1343692800-1343779199@hetarchive.net
SUMMARY:Hetalia: Axis Powers Volume 5
DESCRIPTION:Release of Axis Powers Volume 6 in Japan. \n\n			\n				\n			\n				\n				Limited Edition Cover\n				\n			\n				\n			\n				\n				Limited Edition Booklet Cover\n				\n		\n\n(Kitawiki Article) – (Product Page)
URL:https://hetarchive.net/event/hetalia-axis-powers-volume-5/
CATEGORIES:Merchandise Release
ATTACH;FMTTYPE=image/jpeg:https://hetarchive.net/wp-content/uploads/2020/11/vol-05.jpg
END:VEVENT
BEGIN:VEVENT
DTSTART;VALUE=DATE:20120725
DTEND;VALUE=DATE:20120726
DTSTAMP:20260423T075920
CREATED:20201112T190448Z
LAST-MODIFIED:20201130T201405Z
UID:9191-1343174400-1343260799@hetarchive.net
SUMMARY:Hetalia Drama CD Interval Vol. 3: Nordic Five!
DESCRIPTION:Release of Hetalia Drama CD Interval Vol. 3: Nordic Five! \n(Kitawiki Article)
URL:https://hetarchive.net/event/hetalia-drama-cd-interval-vol-3-nordic-five/
CATEGORIES:Merchandise Release
ATTACH;FMTTYPE=image/jpeg:https://hetarchive.net/wp-content/uploads/2017/03/interval_03.jpg
END:VEVENT
BEGIN:VEVENT
DTSTART;VALUE=DATE:20111102
DTEND;VALUE=DATE:20111103
DTSTAMP:20260423T075920
CREATED:20201112T204313Z
LAST-MODIFIED:20201130T201433Z
UID:9284-1320192000-1320278399@hetarchive.net
SUMMARY:Hetalia Fantasia 3
DESCRIPTION:Release of Hetalia Fantasia 3. This was a mail-order gift for purchasing Hetalia: Axis Powers volume 4. \n(Kitawiki Article)
URL:https://hetarchive.net/event/hetalia-fantasia-3/
CATEGORIES:Merchandise Release
ATTACH;FMTTYPE=image/jpeg:https://hetarchive.net/wp-content/uploads/2017/03/fantasia_03.jpg
END:VEVENT
BEGIN:VEVENT
DTSTART;VALUE=DATE:20111026
DTEND;VALUE=DATE:20111027
DTSTAMP:20260423T075920
CREATED:20201112T190713Z
LAST-MODIFIED:20201112T190713Z
UID:9194-1319587200-1319673599@hetarchive.net
SUMMARY:DJCD Hetalia World Web Radio - Hetalira
DESCRIPTION:Release of DJCD Hetalia World Web Radio – Hetalira. \n(Kitawiki Article)
URL:https://hetarchive.net/event/djcd-hetalia-world-web-radio-hetalira/
CATEGORIES:Merchandise Release
ATTACH;FMTTYPE=image/jpeg:https://hetarchive.net/wp-content/uploads/2020/11/2011-10-26-djcd-world_web_radio.jpg
END:VEVENT
BEGIN:VEVENT
DTSTART;VALUE=DATE:20110630
DTEND;VALUE=DATE:20110701
DTSTAMP:20260423T075920
CREATED:20201117T024008Z
LAST-MODIFIED:20201117T024008Z
UID:9418-1309392000-1309478399@hetarchive.net
SUMMARY:Hetalia: Axis Powers Volume 4
DESCRIPTION:Release of Axis Powers Volume 6 in Japan. \n\n			\n				\n			\n				\n				Limited Edition Cover\n				\n			\n				\n			\n				\n				Limited Edition Booklet Cover\n				\n			\n				\n			\n				\n				Regular Edition First Press Promo: Special Paper\n				\n		\n\n(Kitawiki Article) – (Product Page)
URL:https://hetarchive.net/event/hetalia-axis-powers-volume-4/
CATEGORIES:Merchandise Release
ATTACH;FMTTYPE=image/jpeg:https://hetarchive.net/wp-content/uploads/2020/11/vol-04.jpg
END:VEVENT
BEGIN:VEVENT
DTSTART;VALUE=DATE:20110330
DTEND;VALUE=DATE:20110331
DTSTAMP:20260423T075920
CREATED:20201112T190907Z
LAST-MODIFIED:20201112T190907Z
UID:9197-1301443200-1301529599@hetarchive.net
SUMMARY:Gakuen Hetalia Portable OP/ED Maxi Single
DESCRIPTION:Release of Gakuen Hetalia Portable OP/ED Maxi Single. \n(Kitawiki Article)
URL:https://hetarchive.net/event/gakuen-hetalia-portable-op-ed-maxi-single/
CATEGORIES:Merchandise Release
ATTACH;FMTTYPE=image/jpeg:https://hetarchive.net/wp-content/uploads/2020/11/2011-03-30-gakuen_festa.jpg
END:VEVENT
END:VCALENDAR