BEGIN:VCALENDAR
VERSION:2.0
PRODID:-//Hetarchive - ECPv6.15.16.1//NONSGML v1.0//EN
CALSCALE:GREGORIAN
METHOD:PUBLISH
X-WR-CALNAME:Hetarchive
X-ORIGINAL-URL:https://hetarchive.net
X-WR-CALDESC:Events for Hetarchive
REFRESH-INTERVAL;VALUE=DURATION:PT1H
X-Robots-Tag:noindex
X-PUBLISHED-TTL:PT1H
BEGIN:VTIMEZONE
TZID:America/Mexico_City
BEGIN:DAYLIGHT
TZOFFSETFROM:-0600
TZOFFSETTO:-0500
TZNAME:CDT
DTSTART:20120401T080000
END:DAYLIGHT
BEGIN:STANDARD
TZOFFSETFROM:-0500
TZOFFSETTO:-0600
TZNAME:CST
DTSTART:20121028T070000
END:STANDARD
BEGIN:DAYLIGHT
TZOFFSETFROM:-0600
TZOFFSETTO:-0500
TZNAME:CDT
DTSTART:20130407T080000
END:DAYLIGHT
BEGIN:STANDARD
TZOFFSETFROM:-0500
TZOFFSETTO:-0600
TZNAME:CST
DTSTART:20131027T070000
END:STANDARD
BEGIN:DAYLIGHT
TZOFFSETFROM:-0600
TZOFFSETTO:-0500
TZNAME:CDT
DTSTART:20140406T080000
END:DAYLIGHT
BEGIN:STANDARD
TZOFFSETFROM:-0500
TZOFFSETTO:-0600
TZNAME:CST
DTSTART:20141026T070000
END:STANDARD
BEGIN:DAYLIGHT
TZOFFSETFROM:-0600
TZOFFSETTO:-0500
TZNAME:CDT
DTSTART:20150405T080000
END:DAYLIGHT
BEGIN:STANDARD
TZOFFSETFROM:-0500
TZOFFSETTO:-0600
TZNAME:CST
DTSTART:20151025T070000
END:STANDARD
BEGIN:DAYLIGHT
TZOFFSETFROM:-0600
TZOFFSETTO:-0500
TZNAME:CDT
DTSTART:20160403T080000
END:DAYLIGHT
BEGIN:STANDARD
TZOFFSETFROM:-0500
TZOFFSETTO:-0600
TZNAME:CST
DTSTART:20161030T070000
END:STANDARD
BEGIN:DAYLIGHT
TZOFFSETFROM:-0600
TZOFFSETTO:-0500
TZNAME:CDT
DTSTART:20170402T080000
END:DAYLIGHT
BEGIN:STANDARD
TZOFFSETFROM:-0500
TZOFFSETTO:-0600
TZNAME:CST
DTSTART:20171029T070000
END:STANDARD
BEGIN:DAYLIGHT
TZOFFSETFROM:-0600
TZOFFSETTO:-0500
TZNAME:CDT
DTSTART:20180401T080000
END:DAYLIGHT
BEGIN:STANDARD
TZOFFSETFROM:-0500
TZOFFSETTO:-0600
TZNAME:CST
DTSTART:20181028T070000
END:STANDARD
END:VTIMEZONE
BEGIN:VTIMEZONE
TZID:Asia/Tokyo
BEGIN:STANDARD
TZOFFSETFROM:+0900
TZOFFSETTO:+0900
TZNAME:JST
DTSTART:20120101T000000
END:STANDARD
END:VTIMEZONE
BEGIN:VEVENT
DTSTART;VALUE=DATE:20170823
DTEND;VALUE=DATE:20170824
DTSTAMP:20260423T061943
CREATED:20170802T072207Z
LAST-MODIFIED:20201108T211533Z
UID:2455-1503446400-1503532799@hetarchive.net
SUMMARY:"Hetalia The World Twinkle" Special Price DVD Box
DESCRIPTION:Release for the “Hetalia The World Twinkle” Special Price DVD Box. \n(Kitawiki Article)
URL:https://hetarchive.net/event/hetalia-the-world-twinkle-special-price-dvd-box/
CATEGORIES:Merchandise Release
ATTACH;FMTTYPE=image/jpeg:https://hetarchive.net/wp-content/uploads/ngg_featured/2017-08-23-twt_special-price.jpg
END:VEVENT
BEGIN:VEVENT
DTSTART;VALUE=DATE:20170802
DTEND;VALUE=DATE:20170803
DTSTAMP:20260423T061943
CREATED:20170802T054408Z
LAST-MODIFIED:20201108T211611Z
UID:2452-1501632000-1501718399@hetarchive.net
SUMMARY:Hetalia Character Song CD: The Best Vol. 2 Release
DESCRIPTION:Release of Hetalia Character Song CD: The Best Vol. 2. \n(Kitawiki Article)
URL:https://hetarchive.net/event/hetalia-character-song-cd-the-best-vol-2-release/
CATEGORIES:Merchandise Release
ATTACH;FMTTYPE=image/jpeg:https://hetarchive.net/wp-content/uploads/ngg_featured/2017-08-02-character-song-best_vol2.jpg
END:VEVENT
BEGIN:VEVENT
DTSTART;VALUE=DATE:20170726
DTEND;VALUE=DATE:20170727
DTSTAMP:20260423T061943
CREATED:20170802T073509Z
LAST-MODIFIED:20201108T211734Z
UID:2458-1501027200-1501113599@hetarchive.net
SUMMARY:"Hetalia The Beautiful World" Special Price DVD Box
DESCRIPTION:Release for the “Hetalia The Beautiful World” Special Price DVD Box \n(Kitawiki Article)
URL:https://hetarchive.net/event/hetalia-the-beautiful-world-special-price-dvd-box/
CATEGORIES:Merchandise Release
ATTACH;FMTTYPE=image/jpeg:https://hetarchive.net/wp-content/uploads/ngg_featured/2017-07-26-tbw_specialprice.jpg
END:VEVENT
BEGIN:VEVENT
DTSTART;VALUE=DATE:20170705
DTEND;VALUE=DATE:20170706
DTSTAMP:20260423T061943
CREATED:20170802T053950Z
LAST-MODIFIED:20201108T211832Z
UID:2449-1499212800-1499299199@hetarchive.net
SUMMARY:Hetalia Character Song CD: The Best Vol. 1
DESCRIPTION:Release of Hetalia Character Song CD: The Best Vol. 1. \n(Kitawiki Article)
URL:https://hetarchive.net/event/hetalia-character-song-cd-the-best-vol-1/
CATEGORIES:Merchandise Release
ATTACH;FMTTYPE=image/jpeg:https://hetarchive.net/wp-content/uploads/ngg_featured/2017-07-05-character-song-best_vol1.jpg
END:VEVENT
BEGIN:VEVENT
DTSTART;VALUE=DATE:20170602
DTEND;VALUE=DATE:20170603
DTSTAMP:20260423T061943
CREATED:20170802T052119Z
LAST-MODIFIED:20201108T211954Z
UID:2439-1496361600-1496447999@hetarchive.net
SUMMARY:Hetalia World☆Stars Volume 4
DESCRIPTION:Release of World☆Stars Volume 4 in Japan. \n(Kitawiki Article)
URL:https://hetarchive.net/event/hetalia-world%e2%98%86stars-volume-4/
CATEGORIES:Merchandise Release
ATTACH;FMTTYPE=image/jpeg:https://hetarchive.net/wp-content/uploads/ngg_featured/worldstarsvol-04.jpg
END:VEVENT
BEGIN:VEVENT
DTSTART;VALUE=DATE:20160928
DTEND;VALUE=DATE:20160929
DTSTAMP:20260423T061943
CREATED:20201112T033530Z
LAST-MODIFIED:20201112T033530Z
UID:9097-1475020800-1475107199@hetarchive.net
SUMMARY:Hetalia: The World Twinkle: Hetalian☆Best
DESCRIPTION:Release of Hetalia: The World Twinkle: Hetalian☆Best. \n(Kitawiki Article)
URL:https://hetarchive.net/event/hetalia-the-world-twinkle-hetalian%e2%98%86best/
CATEGORIES:Merchandise Release
ATTACH;FMTTYPE=image/jpeg:https://hetarchive.net/wp-content/uploads/2020/11/2016-09-28-hetalian_best.jpg
END:VEVENT
BEGIN:VEVENT
DTSTART;VALUE=DATE:20160204
DTEND;VALUE=DATE:20160205
DTSTAMP:20260423T061943
CREATED:20170802T052855Z
LAST-MODIFIED:20201108T212037Z
UID:2443-1454544000-1454630399@hetarchive.net
SUMMARY:Hetalia World☆Stars Volume 3
DESCRIPTION:Release of World☆Stars Volume 3 in Japan. \n(Kitawiki Article)
URL:https://hetarchive.net/event/hetalia-world%e2%98%86stars-volume-3/
CATEGORIES:Merchandise Release
ATTACH;FMTTYPE=image/jpeg:https://hetarchive.net/wp-content/uploads/ngg_featured/worldstarsvol-03.jpg
END:VEVENT
BEGIN:VEVENT
DTSTART;VALUE=DATE:20151225
DTEND;VALUE=DATE:20151226
DTSTAMP:20260423T061943
CREATED:20201112T034223Z
LAST-MODIFIED:20201112T034223Z
UID:9103-1451001600-1451087999@hetarchive.net
SUMMARY:DJCD Hetalira The World Twinkle Vol. 2
DESCRIPTION:Release of DJCD Hetalira The World Twinkle Vol. 2. \n(Kitawiki Article)
URL:https://hetarchive.net/event/djcd-hetalira-the-world-twinkle-vol-2/
CATEGORIES:Merchandise Release
ATTACH;FMTTYPE=image/jpeg:https://hetarchive.net/wp-content/uploads/2020/11/2015-12-25-hetalira_twt_djcd-vol2.jpg
END:VEVENT
BEGIN:VEVENT
DTSTART;VALUE=DATE:20151225
DTEND;VALUE=DATE:20151226
DTSTAMP:20260423T061943
CREATED:20201112T033944Z
LAST-MODIFIED:20201130T201418Z
UID:9100-1451001600-1451087999@hetarchive.net
SUMMARY:Hetalia: The World Twinkle Drama CD -dann-
DESCRIPTION:Release of Hetalia: The World Twinkle Drama CD -dann-. \n(Kitawiki Article)
URL:https://hetarchive.net/event/hetalia-the-world-twinkle-drama-cd-dann/
CATEGORIES:Merchandise Release
ATTACH;FMTTYPE=image/jpeg:https://hetarchive.net/wp-content/uploads/2020/11/2015-12-25-dann.jpg
END:VEVENT
BEGIN:VEVENT
DTSTART;VALUE=DATE:20151107
DTEND;VALUE=DATE:20151108
DTSTAMP:20260423T061943
CREATED:20201112T034853Z
LAST-MODIFIED:20201112T034853Z
UID:9106-1446854400-1446940799@hetarchive.net
SUMMARY:Web Radio Hetalira The World Twinkle AGF2015 SPECIAL DJCD
DESCRIPTION:Release of Web Radio Hetalira The World Twinkle AGF2015 SPECIAL DJCD. \n(Kitawiki Article)
URL:https://hetarchive.net/event/web-radio-hetalira-the-world-twinkle-agf2015-special-djcd/
CATEGORIES:Merchandise Release
ATTACH;FMTTYPE=image/jpeg:https://hetarchive.net/wp-content/uploads/2020/11/Hetalira_The_World_Twinkle_AGF2015_DJCD.jpg
END:VEVENT
BEGIN:VEVENT
DTSTART;VALUE=DATE:20151106
DTEND;VALUE=DATE:20151107
DTSTAMP:20260423T061943
CREATED:20201112T035120Z
LAST-MODIFIED:20201112T035120Z
UID:9109-1446768000-1446854399@hetarchive.net
SUMMARY:Hetalia: The World Twinkle Character CD Vol. 8 - China and Hong Kong
DESCRIPTION:Release of Hetalia: The World Twinkle Character CD Vol. 8 – China and Hong Kong. \n(Kitawiki Article)
URL:https://hetarchive.net/event/hetalia-the-world-twinkle-character-cd-vol-8-china-and-hong-kong/
CATEGORIES:Merchandise Release
ATTACH;FMTTYPE=image/jpeg:https://hetarchive.net/wp-content/uploads/2020/11/2015-11-06-twt_chara_cd-vol8_chhk.jpg
END:VEVENT
BEGIN:VEVENT
DTSTART;VALUE=DATE:20151028
DTEND;VALUE=DATE:20151029
DTSTAMP:20260423T061943
CREATED:20201112T035317Z
LAST-MODIFIED:20201112T035326Z
UID:9112-1445990400-1446076799@hetarchive.net
SUMMARY:DJCD Hetalira The World Twinkle Vol. 1
DESCRIPTION:Release of DJCD Hetalira The World Twinkle Vol. 1. \n(Kitawiki Article)
URL:https://hetarchive.net/event/djcd-hetalira-the-world-twinkle-vol-1/
CATEGORIES:Merchandise Release
ATTACH;FMTTYPE=image/jpeg:https://hetarchive.net/wp-content/uploads/2020/11/2015-10-28-hetalira_twt_djcd-vol1.jpg
END:VEVENT
BEGIN:VEVENT
DTSTART;VALUE=DATE:20151028
DTEND;VALUE=DATE:20151029
DTSTAMP:20260423T061943
CREATED:20201112T035549Z
LAST-MODIFIED:20201112T035549Z
UID:9115-1445990400-1446076799@hetarchive.net
SUMMARY:Hetalia: The World Twinkle Character CD Vol. 7 - America and Russia
DESCRIPTION:Release of Hetalia: The World Twinkle Character CD Vol. 7 – America and Russia. \n(Kitawiki Article)
URL:https://hetarchive.net/event/hetalia-the-world-twinkle-character-cd-vol-7-america-and-russia/
CATEGORIES:Merchandise Release
ATTACH;FMTTYPE=image/jpeg:https://hetarchive.net/wp-content/uploads/2020/11/2015-10-28-twt-chara_cd-vol7_amru.jpg
END:VEVENT
BEGIN:VEVENT
DTSTART;VALUE=DATE:20151007
DTEND;VALUE=DATE:20151008
DTSTAMP:20260423T061943
CREATED:20201112T040012Z
LAST-MODIFIED:20201112T040012Z
UID:9118-1444176000-1444262399@hetarchive.net
SUMMARY:Hetalia: The World Twinkle Character CD Vol. 6 - Finland and Estonia
DESCRIPTION:Release of Hetalia: The World Twinkle Character CD Vol. 6 – Finland and Estonia. \n(Kitawiki Article)
URL:https://hetarchive.net/event/hetalia-the-world-twinkle-character-cd-vol-6-finland-and-estonia/
CATEGORIES:Merchandise Release
ATTACH;FMTTYPE=image/jpeg:https://hetarchive.net/wp-content/uploads/2020/11/2015-10-07-twt-chara-cd-vol6_fnest.jpg
END:VEVENT
BEGIN:VEVENT
DTSTART;VALUE=DATE:20150925
DTEND;VALUE=DATE:20150926
DTSTAMP:20260423T061943
CREATED:20201112T040254Z
LAST-MODIFIED:20201112T040254Z
UID:9121-1443139200-1443225599@hetarchive.net
SUMMARY:Hetalia: The World Twinkle Character CD Vol. 5 - Norway and Iceland
DESCRIPTION:Release of Hetalia: The World Twinkle Character CD Vol. 5 – Norway and Iceland. \n(Kitawiki Article)
URL:https://hetarchive.net/event/hetalia-the-world-twinkle-character-cd-vol-5-norway-and-iceland/
CATEGORIES:Merchandise Release
ATTACH;FMTTYPE=image/jpeg:https://hetarchive.net/wp-content/uploads/2020/11/2015-09-25-twt_chara_cd-vol5_icnr.jpg
END:VEVENT
BEGIN:VEVENT
DTSTART;VALUE=DATE:20150826
DTEND;VALUE=DATE:20150827
DTSTAMP:20260423T061943
CREATED:20201112T040524Z
LAST-MODIFIED:20201130T201411Z
UID:9124-1440547200-1440633599@hetarchive.net
SUMMARY:Hetalia: The Beautiful World Drama CD -inizio-
DESCRIPTION:Release of Hetalia: The Beautiful World Drama CD -inizio-. \n(Kitawiki Article)
URL:https://hetarchive.net/event/hetalia-the-beautiful-world-drama-cd-inizio/
CATEGORIES:Merchandise Release
ATTACH;FMTTYPE=image/jpeg:https://hetarchive.net/wp-content/uploads/2020/11/2015-08-26-inizio.jpg
END:VEVENT
BEGIN:VEVENT
DTSTART;TZID=America/Mexico_City:20150805T080000
DTEND;TZID=America/Mexico_City:20150805T170000
DTSTAMP:20260423T061943
CREATED:20201112T040751Z
LAST-MODIFIED:20201112T040751Z
UID:9127-1438761600-1438794000@hetarchive.net
SUMMARY:Hetalia: The World Twinkle Character CD Vol. 4 - Denmark and Sweden
DESCRIPTION:Release of Hetalia: The World Twinkle Character CD Vol. 4 – Denmark and Sweden. \n(Kitawiki Article)
URL:https://hetarchive.net/event/hetalia-the-world-twinkle-character-cd-vol-4-denmark-and-sweden/
CATEGORIES:Merchandise Release
ATTACH;FMTTYPE=image/jpeg:https://hetarchive.net/wp-content/uploads/2020/11/2015-07-08-twt_chara_cd-vol4_swdk.jpg
END:VEVENT
BEGIN:VEVENT
DTSTART;VALUE=DATE:20150724
DTEND;VALUE=DATE:20150725
DTSTAMP:20260423T061943
CREATED:20201112T163737Z
LAST-MODIFIED:20201112T163737Z
UID:9133-1437696000-1437782399@hetarchive.net
SUMMARY:Hetalian☆Jet Single
DESCRIPTION:Release of Hetalian☆Jet Single. \n(Kitawiki Article)
URL:https://hetarchive.net/event/hetalian%e2%98%86jet-single/
CATEGORIES:Merchandise Release
ATTACH;FMTTYPE=image/jpeg:https://hetarchive.net/wp-content/uploads/2020/11/2015-07-24-hetalian_jet.jpg
END:VEVENT
BEGIN:VEVENT
DTSTART;VALUE=DATE:20150724
DTEND;VALUE=DATE:20150725
DTSTAMP:20260423T061943
CREATED:20201112T163533Z
LAST-MODIFIED:20201112T163533Z
UID:9130-1437696000-1437782399@hetarchive.net
SUMMARY:Hetalia: The World Twinkle Character CD Vol. 3 - France and England
DESCRIPTION:Release of Hetalia: The World Twinkle Character CD Vol. 3 – France and England. \n(Kitawiki Article)
URL:https://hetarchive.net/event/hetalia-the-world-twinkle-character-cd-vol-3-france-and-england/
CATEGORIES:Merchandise Release
ATTACH;FMTTYPE=image/jpeg:https://hetarchive.net/wp-content/uploads/2020/11/2015-07-08-twt_chara_cd-vol3_enfr.jpg
END:VEVENT
BEGIN:VEVENT
DTSTART;VALUE=DATE:20150708
DTEND;VALUE=DATE:20150709
DTSTAMP:20260423T061943
CREATED:20201112T163907Z
LAST-MODIFIED:20201112T163907Z
UID:9136-1436313600-1436399999@hetarchive.net
SUMMARY:Hetalia: The World Twinkle Character CD Vol. 2 - Prussia and Germany
DESCRIPTION:Release of Hetalia: The World Twinkle Character CD Vol. 2 – Prussia and Germany. \n(Kitawiki Article)
URL:https://hetarchive.net/event/hetalia-the-world-twinkle-character-cd-vol-2-prussia-and-germany/
CATEGORIES:Merchandise Release
ATTACH;FMTTYPE=image/jpeg:https://hetarchive.net/wp-content/uploads/2020/11/2015-07-08-twt_chara_cd-vol2_depr.jpg
END:VEVENT
BEGIN:VEVENT
DTSTART;VALUE=DATE:20150703
DTEND;VALUE=DATE:20150704
DTSTAMP:20260423T061943
CREATED:20201108T014548Z
LAST-MODIFIED:20201108T212138Z
UID:8939-1435881600-1435967999@hetarchive.net
SUMMARY:Hetalia World☆Stars Volume 2
DESCRIPTION:Release of World☆Stars Volume 2 in Japan. \n(Kitawiki Article)
URL:https://hetarchive.net/event/hetalia-world%e2%98%86stars-volume-2/
CATEGORIES:Merchandise Release
ATTACH;FMTTYPE=image/jpeg:https://hetarchive.net/wp-content/uploads/2020/11/worldstarsvol-02.jpg
END:VEVENT
BEGIN:VEVENT
DTSTART;VALUE=DATE:20150624
DTEND;VALUE=DATE:20150625
DTSTAMP:20260423T061943
CREATED:20201112T164028Z
LAST-MODIFIED:20201112T164028Z
UID:9139-1435104000-1435190399@hetarchive.net
SUMMARY:Hetalia: The World Twinkle Character CD Vol. 1 - Italy and Japan
DESCRIPTION:Release of Hetalia: The World Twinkle Character CD Vol. 1 – Italy and Japan. \n(Kitawiki Article)
URL:https://hetarchive.net/event/hetalia-the-world-twinkle-character-cd-vol-1-italy-and-japan/
CATEGORIES:Merchandise Release
ATTACH;FMTTYPE=image/jpeg:https://hetarchive.net/wp-content/uploads/2020/11/2015-06-24-twt_chara_cd-vol1_itjp.jpg
END:VEVENT
BEGIN:VEVENT
DTSTART;VALUE=DATE:20150204
DTEND;VALUE=DATE:20150205
DTSTAMP:20260423T061943
CREATED:20201108T040613Z
LAST-MODIFIED:20201130T204429Z
UID:8942-1423008000-1423094399@hetarchive.net
SUMMARY:Hetalia World☆Stars Volume 1
DESCRIPTION:Release of World☆Stars Volume 1 in Japan. \n(Kitawiki Article) \n\n			\n				\n			\n				\n				Animate Trial Reading Papers\n				\n			\n				\n			\n				\n				Limited Illustration Paper\n				\n			\n				\n			\n				\n				Animate Shop Limited Variant Cover\n				\n		\n\nThe Limited Illustration Paper came in different colors depending on which shop the book was purchased from.
URL:https://hetarchive.net/event/hetalia-world%e2%98%86stars-volume-1/
CATEGORIES:Merchandise Release
ATTACH;FMTTYPE=image/jpeg:https://hetarchive.net/wp-content/uploads/2020/11/worldstarsvol-01.jpg
END:VEVENT
BEGIN:VEVENT
DTSTART;VALUE=DATE:20141224
DTEND;VALUE=DATE:20141225
DTSTAMP:20260423T061943
CREATED:20201108T121054Z
LAST-MODIFIED:20201117T024543Z
UID:8984-1419379200-1419465599@hetarchive.net
SUMMARY:Hetalia: Axis Powers Speciale 3
DESCRIPTION:Reprint Omnibus of “Hetalia: Axis Powers” volumes 5 and 6. \n\n			\n				\n			\n				\n				Animega & Bunkyodo Illustration Card\n				\n		\n\n(Kitawiki Article) – (Product Page)
URL:https://hetarchive.net/event/hetalia-axis-powers-speciale-3/
CATEGORIES:Merchandise Release
ATTACH;FMTTYPE=image/jpeg:https://hetarchive.net/wp-content/uploads/2020/11/speciale3755.jpg
END:VEVENT
BEGIN:VEVENT
DTSTART;VALUE=DATE:20141024
DTEND;VALUE=DATE:20141025
DTSTAMP:20260423T061943
CREATED:20201108T210209Z
LAST-MODIFIED:20201130T185248Z
UID:8990-1414108800-1414195199@hetarchive.net
SUMMARY:Hetalia: Axis Power Speciale 2
DESCRIPTION:Reprint Omnibus of “Hetalia: Axis Powers” volumes 3 and 4. \n\n			\n				\n			\n				\n				Animega & Bunkyodo Illustration Card\n				\n		\n\n(Kitawiki Article) – (Product Page)
URL:https://hetarchive.net/event/hetalia-axis-power-speciale-2/
CATEGORIES:Merchandise Release
ATTACH;FMTTYPE=image/jpeg:https://hetarchive.net/wp-content/uploads/2020/11/speciale2.jpg
END:VEVENT
BEGIN:VEVENT
DTSTART;VALUE=DATE:20140823
DTEND;VALUE=DATE:20140824
DTSTAMP:20260423T061943
CREATED:20201108T212729Z
LAST-MODIFIED:20201117T024414Z
UID:9014-1408752000-1408838399@hetarchive.net
SUMMARY:Hetalia: Axis Powers Speciale 1
DESCRIPTION:Reprint Omnibus of “Hetalia: Axis Powers” volumes 1 and 2. \n\n			\n				\n			\n				\n				Animega & Bunkyodo Illustration Card\n				\n			\n				\n			\n				\n				Animate Illustration Card\n				\n		\n\n(Kitawiki Article) – (Product Page)
URL:https://hetarchive.net/event/hetalia-axis-powers-speciale-1/
CATEGORIES:Merchandise Release
ATTACH;FMTTYPE=image/jpeg:https://hetarchive.net/wp-content/uploads/2020/11/speciale1.jpg
END:VEVENT
BEGIN:VEVENT
DTSTART;VALUE=DATE:20140814
DTEND;VALUE=DATE:20140815
DTSTAMP:20260423T061943
CREATED:20201112T164240Z
LAST-MODIFIED:20201112T164240Z
UID:9142-1407974400-1408060799@hetarchive.net
SUMMARY:Hetalia: The Beautiful World: Mawaru Chikyuu Best
DESCRIPTION:Release of Hetalia: The Beautiful World: Mawaru Chikyuu Best. \n(Kitawiki Article)
URL:https://hetarchive.net/event/hetalia-the-beautiful-world-mawaru-chikyuu-best/
CATEGORIES:Merchandise Release
ATTACH;FMTTYPE=image/jpeg:https://hetarchive.net/wp-content/uploads/2020/11/2014-08-14-mawaru_chikyuu_best.jpg
END:VEVENT
BEGIN:VEVENT
DTSTART;VALUE=DATE:20131031
DTEND;VALUE=DATE:20131101
DTSTAMP:20260423T061943
CREATED:20201108T214102Z
LAST-MODIFIED:20201130T201725Z
UID:9019-1383177600-1383263999@hetarchive.net
SUMMARY:Hetalia: Axis Powers Volume 6
DESCRIPTION:Release of Axis Powers Volume 6 in Japan. \n\n			\n				\n			\n				\n				Limited Edition Cover\n				\n			\n				\n			\n				\n				Limited Edition Bonus CD: W Academy Newspaper Club: Sports Festival Edition!\n				\n			\n				\n			\n				\n				JBooks Preorder Card\n				\n			\n				\n			\n				\n				Toranoana Preorder Card\n				\n			\n				\n			\n				\n				Animate Preorder Coasters\n				\n		\n\n(Kitawiki Article) – (Product Page)
URL:https://hetarchive.net/event/hetalia-axis-powers-volume-6/
CATEGORIES:Merchandise Release
ATTACH;FMTTYPE=image/jpeg:https://hetarchive.net/wp-content/uploads/2020/11/vol-06.jpg
END:VEVENT
BEGIN:VEVENT
DTSTART;VALUE=DATE:20130925
DTEND;VALUE=DATE:20130926
DTSTAMP:20260423T061943
CREATED:20201112T164924Z
LAST-MODIFIED:20201112T165009Z
UID:9151-1380067200-1380153599@hetarchive.net
SUMMARY:Hetalia Character CD II Vol. 7 - Russia
DESCRIPTION:Release of Hetalia Character CD II Vol. 7 – Russia. \n(Kitawiki Article)
URL:https://hetarchive.net/event/hetalia-character-cd-ii-vol-7-russia/
CATEGORIES:Merchandise Release
ATTACH;FMTTYPE=image/jpeg:https://hetarchive.net/wp-content/uploads/2020/11/2013-09-25-chara_cdii-vol7_russia.jpg
END:VEVENT
BEGIN:VEVENT
DTSTART;VALUE=DATE:20130925
DTEND;VALUE=DATE:20130926
DTSTAMP:20260423T061943
CREATED:20201112T164500Z
LAST-MODIFIED:20201112T165238Z
UID:9145-1380067200-1380153599@hetarchive.net
SUMMARY:Hetalia: The Beautiful World: Sound World
DESCRIPTION:Release of Hetalia: The Beautiful World: Sound World. \n(Kitawiki Article)
URL:https://hetarchive.net/event/hetalia-the-beautiful-world-sound-world/
CATEGORIES:Merchandise Release
ATTACH;FMTTYPE=image/jpeg:https://hetarchive.net/wp-content/uploads/2020/11/2013-09-25-the_beautiful_world-sound_world.jpg
END:VEVENT
END:VCALENDAR