BEGIN:VCALENDAR
VERSION:2.0
PRODID:-//Hetarchive - ECPv6.15.16.1//NONSGML v1.0//EN
CALSCALE:GREGORIAN
METHOD:PUBLISH
X-WR-CALNAME:Hetarchive
X-ORIGINAL-URL:https://hetarchive.net
X-WR-CALDESC:Events for Hetarchive
REFRESH-INTERVAL;VALUE=DURATION:PT1H
X-Robots-Tag:noindex
X-PUBLISHED-TTL:PT1H
BEGIN:VTIMEZONE
TZID:America/Mexico_City
BEGIN:DAYLIGHT
TZOFFSETFROM:-0600
TZOFFSETTO:-0500
TZNAME:CDT
DTSTART:20160403T080000
END:DAYLIGHT
BEGIN:STANDARD
TZOFFSETFROM:-0500
TZOFFSETTO:-0600
TZNAME:CST
DTSTART:20161030T070000
END:STANDARD
BEGIN:DAYLIGHT
TZOFFSETFROM:-0600
TZOFFSETTO:-0500
TZNAME:CDT
DTSTART:20170402T080000
END:DAYLIGHT
BEGIN:STANDARD
TZOFFSETFROM:-0500
TZOFFSETTO:-0600
TZNAME:CST
DTSTART:20171029T070000
END:STANDARD
BEGIN:DAYLIGHT
TZOFFSETFROM:-0600
TZOFFSETTO:-0500
TZNAME:CDT
DTSTART:20180401T080000
END:DAYLIGHT
BEGIN:STANDARD
TZOFFSETFROM:-0500
TZOFFSETTO:-0600
TZNAME:CST
DTSTART:20181028T070000
END:STANDARD
END:VTIMEZONE
BEGIN:VEVENT
DTSTART;VALUE=DATE:20171129
DTEND;VALUE=DATE:20171130
DTSTAMP:20260423T060439
CREATED:20170802T053533Z
LAST-MODIFIED:20201108T210818Z
UID:2446-1511913600-1511999999@hetarchive.net
SUMMARY:Musical "Hetalia ~ in the new world ~" DVD
DESCRIPTION:Release of the DVD for Musical “Hetalia ~ in the new world ~”. \n(Kitawiki Article)
URL:https://hetarchive.net/event/musical-hetalia-in-the-new-world-dvd/
CATEGORIES:Hetalia Musical,Merchandise Release
ATTACH;FMTTYPE=image/jpeg:https://hetarchive.net/wp-content/uploads/2017/08/2017-11-29-hetamyu_inthenewworld.jpg
END:VEVENT
END:VCALENDAR